BEGIN:VCALENDAR
VERSION:2.0
PRODID:-//Visit Marlborough - ECPv6.15.20//NONSGML v1.0//EN
CALSCALE:GREGORIAN
METHOD:PUBLISH
X-ORIGINAL-URL:https://visit-marlborough.com
X-WR-CALDESC:Events for Visit Marlborough
REFRESH-INTERVAL;VALUE=DURATION:PT1H
X-Robots-Tag:noindex
X-PUBLISHED-TTL:PT1H
BEGIN:VTIMEZONE
TZID:America/New_York
BEGIN:DAYLIGHT
TZOFFSETFROM:-0500
TZOFFSETTO:-0400
TZNAME:EDT
DTSTART:20240310T070000
END:DAYLIGHT
BEGIN:STANDARD
TZOFFSETFROM:-0400
TZOFFSETTO:-0500
TZNAME:EST
DTSTART:20241103T060000
END:STANDARD
BEGIN:DAYLIGHT
TZOFFSETFROM:-0500
TZOFFSETTO:-0400
TZNAME:EDT
DTSTART:20250309T070000
END:DAYLIGHT
BEGIN:STANDARD
TZOFFSETFROM:-0400
TZOFFSETTO:-0500
TZNAME:EST
DTSTART:20251102T060000
END:STANDARD
BEGIN:DAYLIGHT
TZOFFSETFROM:-0500
TZOFFSETTO:-0400
TZNAME:EDT
DTSTART:20260308T070000
END:DAYLIGHT
BEGIN:STANDARD
TZOFFSETFROM:-0400
TZOFFSETTO:-0500
TZNAME:EST
DTSTART:20261101T060000
END:STANDARD
END:VTIMEZONE
BEGIN:VEVENT
DTSTART;TZID=America/New_York:20251202T190000
DTEND;TZID=America/New_York:20251202T210000
DTSTAMP:20260425T171933
CREATED:20251124T163343Z
LAST-MODIFIED:20251124T163343Z
UID:216760-1764702000-1764709200@visit-marlborough.com
SUMMARY:Geeks Who Drink Trivia @ Lost Shoe
DESCRIPTION:Trivia Night starting at 7 pm!
URL:https://visit-marlborough.com/event/geeks-who-drink-trivia-lost-shoe-97/
LOCATION:Lost Shoe Brewing & Roasting Co.\, 19 Weed Street\, Marlborough\, MA\, 01752\, United States
END:VEVENT
BEGIN:VEVENT
DTSTART;TZID=America/New_York:20251203T193000
DTEND;TZID=America/New_York:20251203T213000
DTSTAMP:20260425T171933
CREATED:20251124T211425Z
LAST-MODIFIED:20251124T211425Z
UID:216860-1764790200-1764797400@visit-marlborough.com
SUMMARY:Trivia @ Tackle Box Brewing
DESCRIPTION:Join us every Wednesday for a fun-filled trivia night hosted by George! Bring your friends\, test your knowledge\, and enjoy great drinks at Tackle Box Brewing Co. Don’t miss out!
URL:https://visit-marlborough.com/event/trivia-tackle-box-brewing-106/
LOCATION:Tackle Box Brewing Company\, 416 Boston Post Road East\, Marlborough\, MA\, 01752\, United States
END:VEVENT
BEGIN:VEVENT
DTSTART;TZID=America/New_York:20251204T180000
DTEND;TZID=America/New_York:20251204T200000
DTSTAMP:20260425T171933
CREATED:20251124T212753Z
LAST-MODIFIED:20251124T212753Z
UID:216874-1764871200-1764878400@visit-marlborough.com
SUMMARY:Book Club @ Tackle Box
DESCRIPTION:Join us for our next Book Club meeting as we dive into “The Wedding People” by Alison Espach! Bring your thoughts\, sip your favorite brew\, and bring a book you love for a used book Yankee swap! Let’s sip\, swap\, and chat all things literary!
URL:https://visit-marlborough.com/event/book-club-tackle-box-18/
LOCATION:Tackle Box Brewing Company\, 416 Boston Post Road East\, Marlborough\, MA\, 01752\, United States
END:VEVENT
BEGIN:VEVENT
DTSTART;TZID=America/New_York:20251204T193000
DTEND;TZID=America/New_York:20251204T223000
DTSTAMP:20260425T171933
CREATED:20251124T205537Z
LAST-MODIFIED:20251124T205537Z
UID:216845-1764876600-1764887400@visit-marlborough.com
SUMMARY:Rock Star Karaoke @ Tackle Box
DESCRIPTION:Unleash your inner rock star every Thursday night at Tackle Box Brewing Co.! Whether you’re a seasoned performer or just want to have fun\, join us for a night of karaoke\, great drinks\, and unforgettable memories. Don’t miss out on the fun!
URL:https://visit-marlborough.com/event/rock-star-karaoke-tackle-box-12/
LOCATION:Tackle Box Brewing Company\, 416 Boston Post Road East\, Marlborough\, MA\, 01752\, United States
ATTACH;FMTTYPE=image/jpeg:https://visit-marlborough.com/wp-content/uploads/2025/11/karaoke-tackle-box.jpg
END:VEVENT
BEGIN:VEVENT
DTSTART;TZID=America/New_York:20251205T200000
DTEND;TZID=America/New_York:20251205T230000
DTSTAMP:20260425T171933
CREATED:20251124T172029Z
LAST-MODIFIED:20251124T172029Z
UID:216800-1764964800-1764975600@visit-marlborough.com
SUMMARY:Live Music @ Tackle Box
DESCRIPTION:Angry Tony & The Homewreckers \nGet ready for a night of high-energy rock as Angry Tony and the Homewreckers take the stage at Tackle Box Brewing Co. Join us on December 5th from 8 to 11 PM for killer tunes\, cold brews\, and an unforgettable live show. No cover – just good vibes and great music!
URL:https://visit-marlborough.com/event/live-music-tackle-box-203/
LOCATION:Tackle Box Brewing Company\, 416 Boston Post Road East\, Marlborough\, MA\, 01752\, United States
ATTACH;FMTTYPE=image/jpeg:https://visit-marlborough.com/wp-content/uploads/2025/11/Angry-Tony-Tackle-Box.jpg
END:VEVENT
BEGIN:VEVENT
DTSTART;TZID=America/New_York:20251206T110000
DTEND;TZID=America/New_York:20251206T123000
DTSTAMP:20260425T171933
CREATED:20251124T212939Z
LAST-MODIFIED:20251124T212939Z
UID:216876-1765018800-1765024200@visit-marlborough.com
SUMMARY:Yoga in the Brewery @ Tackle Box
DESCRIPTION:YOGA + BEER: The best of both worlds!\nEnjoy your late Saturday morning with a 60-minute all-levels yoga class\, led by 200-Hr CYT Al Dewsnap to fun and uplifting music in the empty brewery! Please bring your own mat! Class takes place from 11-12 and will be followed with a refreshing craft beer or seltzer courtesy of Tackle Box Brewing Co. when the taproom opens at noon. \nTicket includes one drink ticket to be used for a pour in the taproom. Come with friends and hang around for a bit to enjoy your Saturday afternoon! \nPlease note the following:\n 	Attendees under the age of 21 MUST be accompanied by a parent or guardian who is also registered for class. Parents/guardians who are accompanying an under-21 student are responsible for the drink ticket included with their admission cost. Because there is limited space at the venue\, you must notify me at least 24 hours in advance if you cannot attend to guarantee refund. Within 24 hours\, I will issue a refund only if we are able to fill your spot. Please reach out at aldewsnapyoga@gmail.com in this situation. (Note that Eventbrite processing fees are non-refundable!)
URL:https://visit-marlborough.com/event/yoga-in-the-brewery-tackle-box-54/
LOCATION:Tackle Box Brewing Company\, 416 Boston Post Road East\, Marlborough\, MA\, 01752\, United States
END:VEVENT
BEGIN:VEVENT
DTSTART;TZID=America/New_York:20251206T200000
DTEND;TZID=America/New_York:20251206T220000
DTSTAMP:20260425T171933
CREATED:20251125T154119Z
LAST-MODIFIED:20251125T154119Z
UID:216913-1765051200-1765058400@visit-marlborough.com
SUMMARY:Comedy Night @ Flying Dreams Brewing Co.
DESCRIPTION:Next Stop Comedy brings the best comedians\, with new lineups every time\, straight to your neighborhood for an unforgettable night of laughter! Our shows feature top-tier talent from across the country\, delivering high-energy performances in intimate\, local venues. Whether you need an exciting date night\, you’re a die-hard comedy fan\, or you’re just looking for a fun night out\, Next Stop Comedy guarantees big laughs\, great vibes\, and an experience you won’t want to miss.
URL:https://visit-marlborough.com/event/comedy-night-flying-dreams-brewing-co-5/
LOCATION:Flying Dreams Brewing Co.\, 277 Main Street\, Marlborough\, MA\, 01752\, United States
ATTACH;FMTTYPE=image/png:https://visit-marlborough.com/wp-content/uploads/2025/11/Flying-Dreams-Brewing-DEC-06-Social1.png
END:VEVENT
BEGIN:VEVENT
DTSTART;TZID=America/New_York:20251207T130000
DTEND;TZID=America/New_York:20251207T170000
DTSTAMP:20260425T171933
CREATED:20251124T214120Z
LAST-MODIFIED:20251124T214120Z
UID:216884-1765112400-1765126800@visit-marlborough.com
SUMMARY:Sip 'N Shop @ Tackle Box Brewing
DESCRIPTION:Shop Till You Drop – Sip ‘N Shop!\nCan you imagine supporting local\, getting all your holiday shopping done\, and sipping a cold beer or refreshing seltzer – all in one stop? Join us for Shop Till You Drop: Sip ‘N Shop!\nOver 30 Local Vendors – Each vendor offers unique products – no competition between them – so you’ll discover more one-of-a-kind treasures and gifts!\nSeltzers\, Beer & Cheer! Enjoy your favorite drinks while you browse\, sample\, and shop.\nCome Shop Local\, Drink Local\, Support Small Businesses\, and have a blast doing it!\nShopping\, Seltzers\, Beers\, and lots of Cheer await you!
URL:https://visit-marlborough.com/event/sip-n-shop-tackle-box-brewing-3/
LOCATION:Tackle Box Brewing Company\, 416 Boston Post Road East\, Marlborough\, MA\, 01752\, United States
END:VEVENT
BEGIN:VEVENT
DTSTART;TZID=America/New_York:20251207T150000
DTEND;TZID=America/New_York:20251207T163000
DTSTAMP:20260425T171933
CREATED:20251125T155329Z
LAST-MODIFIED:20251125T155329Z
UID:216916-1765119600-1765125000@visit-marlborough.com
SUMMARY:Modern Calligraphy for Beginners at Flying Dreams Brewing
DESCRIPTION:Join us at Flying Dreams Brewing in Marlborough\, MA for a festive workshop of holiday fun and pretty lettering for beginners! Whether you’re a stationery nerd\, DIY Bride-to-be\, or just a crafty individual\, in this workshop you’ll be learning an introduction to modern calligraphy with a pointed dip pen and ink. We will cover all the basics and get you ready to add those special lettered details to all your holiday tables\, Christmas trees\, hostess gifts\, gift tags\, holiday card mailings and more! \nClass includes 1.5 hours of instruction and demonstration\, our beginner’s calligraphy kit (two nibs\, black ink pot\, 2 letter guides\, tracing paper and straight pen holder)\, and all materials to write on. Everything is yours to keep at the end of the workshop! Additionally\, we will be lettering on a take-home acrylic ornament at the end of our class time!
URL:https://visit-marlborough.com/event/modern-calligraphy-for-beginners-at-flying-dreams-brewing-2/
LOCATION:Flying Dreams Brewing Co.\, 277 Main Street\, Marlborough\, MA\, 01752\, United States
ATTACH;FMTTYPE=image/jpeg:https://visit-marlborough.com/wp-content/uploads/2025/11/December-Calligraphy.jpg
END:VEVENT
BEGIN:VEVENT
DTSTART;TZID=America/New_York:20251209T190000
DTEND;TZID=America/New_York:20251209T210000
DTSTAMP:20260425T171933
CREATED:20251124T163438Z
LAST-MODIFIED:20251124T163438Z
UID:216762-1765306800-1765314000@visit-marlborough.com
SUMMARY:Geeks Who Drink Trivia @ Lost Shoe
DESCRIPTION:Trivia Night starting at 7 pm!
URL:https://visit-marlborough.com/event/geeks-who-drink-trivia-lost-shoe-98/
LOCATION:Lost Shoe Brewing & Roasting Co.\, 19 Weed Street\, Marlborough\, MA\, 01752\, United States
END:VEVENT
BEGIN:VEVENT
DTSTART;TZID=America/New_York:20251210T193000
DTEND;TZID=America/New_York:20251210T213000
DTSTAMP:20260425T171933
CREATED:20251124T211607Z
LAST-MODIFIED:20251124T211607Z
UID:216862-1765395000-1765402200@visit-marlborough.com
SUMMARY:Trivia @ Tackle Box Brewing
DESCRIPTION:Join us every Wednesday for a fun-filled trivia night hosted by George! Bring your friends\, test your knowledge\, and enjoy great drinks at Tackle Box Brewing Co. Don’t miss out!
URL:https://visit-marlborough.com/event/trivia-tackle-box-brewing-107/
LOCATION:Tackle Box Brewing Company\, 416 Boston Post Road East\, Marlborough\, MA\, 01752\, United States
END:VEVENT
BEGIN:VEVENT
DTSTART;TZID=America/New_York:20251211T180000
DTEND;TZID=America/New_York:20251211T200000
DTSTAMP:20260425T171933
CREATED:20251125T155614Z
LAST-MODIFIED:20251125T155614Z
UID:216919-1765476000-1765483200@visit-marlborough.com
SUMMARY:Book Club @ Flying Dreams
DESCRIPTION:Join us for our monthly book club as we discuss “Still Alice” by Lisa Genova.
URL:https://visit-marlborough.com/event/book-club-flying-dreams-3/
LOCATION:Flying Dreams Brewing Co.\, 277 Main Street\, Marlborough\, MA\, 01752\, United States
ATTACH;FMTTYPE=image/jpeg:https://visit-marlborough.com/wp-content/uploads/2025/11/Flying-Dreams-Book-Club.jpg
END:VEVENT
BEGIN:VEVENT
DTSTART;TZID=America/New_York:20251211T193000
DTEND;TZID=America/New_York:20251211T223000
DTSTAMP:20260425T171933
CREATED:20251124T205622Z
LAST-MODIFIED:20251124T205622Z
UID:216848-1765481400-1765492200@visit-marlborough.com
SUMMARY:Rock Star Karaoke @ Tackle Box
DESCRIPTION:Unleash your inner rock star every Thursday night at Tackle Box Brewing Co.! Whether you’re a seasoned performer or just want to have fun\, join us for a night of karaoke\, great drinks\, and unforgettable memories. Don’t miss out on the fun!
URL:https://visit-marlborough.com/event/rock-star-karaoke-tackle-box-13/
LOCATION:Tackle Box Brewing Company\, 416 Boston Post Road East\, Marlborough\, MA\, 01752\, United States
ATTACH;FMTTYPE=image/jpeg:https://visit-marlborough.com/wp-content/uploads/2025/11/karaoke-tackle-box.jpg
END:VEVENT
BEGIN:VEVENT
DTSTART;TZID=America/New_York:20251212T180000
DTEND;TZID=America/New_York:20251212T210000
DTSTAMP:20260425T171934
CREATED:20251125T155804Z
LAST-MODIFIED:20251125T155804Z
UID:216922-1765562400-1765573200@visit-marlborough.com
SUMMARY:Acoustic Open Mic Night @ Flying Dreams
DESCRIPTION:Sign ups start at 5:30pm\nMusic starts at 6pm\n3 songs
URL:https://visit-marlborough.com/event/acoustic-open-mic-night-flying-dreams-5/
LOCATION:Flying Dreams Brewing Co.\, 277 Main Street\, Marlborough\, MA\, 01752\, United States
END:VEVENT
BEGIN:VEVENT
DTSTART;TZID=America/New_York:20251216T190000
DTEND;TZID=America/New_York:20251216T210000
DTSTAMP:20260425T171934
CREATED:20251124T163646Z
LAST-MODIFIED:20251124T163646Z
UID:216764-1765911600-1765918800@visit-marlborough.com
SUMMARY:Geeks Who Drink Trivia @ Lost Shoe
DESCRIPTION:Trivia Night starting at 7 pm!
URL:https://visit-marlborough.com/event/geeks-who-drink-trivia-lost-shoe-99/
LOCATION:Lost Shoe Brewing & Roasting Co.\, 19 Weed Street\, Marlborough\, MA\, 01752\, United States
END:VEVENT
BEGIN:VEVENT
DTSTART;TZID=America/New_York:20251217T193000
DTEND;TZID=America/New_York:20251217T213000
DTSTAMP:20260425T171934
CREATED:20251124T212320Z
LAST-MODIFIED:20251124T212320Z
UID:216864-1765999800-1766007000@visit-marlborough.com
SUMMARY:Trivia @ Tackle Box Brewing
DESCRIPTION:Join us every Wednesday for a fun-filled trivia night hosted by George! Bring your friends\, test your knowledge\, and enjoy great drinks at Tackle Box Brewing Co. Don’t miss out!
URL:https://visit-marlborough.com/event/trivia-tackle-box-brewing-108/
LOCATION:Tackle Box Brewing Company\, 416 Boston Post Road East\, Marlborough\, MA\, 01752\, United States
END:VEVENT
BEGIN:VEVENT
DTSTART;TZID=America/New_York:20251218T180000
DTEND;TZID=America/New_York:20251218T203000
DTSTAMP:20260425T171934
CREATED:20251125T160846Z
LAST-MODIFIED:20251125T160846Z
UID:216928-1766080800-1766089800@visit-marlborough.com
SUMMARY:Cookie Decorating @ Flying Dreams
DESCRIPTION:Learn to decorate these adorable sugar cookies with royal icing! \nIn person instruction with Liz from Elizabeth’s Custom Bakes  at Flying Dreams Brewing in Marlboro\, Ma \nIf you enjoy cookie decorating\, if your frustrated with royal icing or just want to enjoy something fun with friends or family and get into the holiday spirit this class is for you! \nEach class ticket includes; \n6 freshly baked sugar cookie \nIcing bags and materials needed to decorate the set of cookies above \nA tray to take home your creations \nLiz’s very own royal icing recipe \n2.5 hours of Step by step instruction for success!
URL:https://visit-marlborough.com/event/cookie-decorating-flying-dreams-2/
LOCATION:Flying Dreams Brewing Co.\, 277 Main Street\, Marlborough\, MA\, 01752\, United States
ATTACH;FMTTYPE=image/jpeg:https://visit-marlborough.com/wp-content/uploads/2025/11/Xmas-Cookie-Flyer.jpg
END:VEVENT
BEGIN:VEVENT
DTSTART;TZID=America/New_York:20251218T190000
DTEND;TZID=America/New_York:20251218T210000
DTSTAMP:20260425T171934
CREATED:20250728T194737Z
LAST-MODIFIED:20250728T194737Z
UID:216178-1766084400-1766091600@visit-marlborough.com
SUMMARY:Bonsai Bar @ Flying Dreams
DESCRIPTION:Beginner workshops are perfect for you to grab your friends\, grab a drink and come make tiny trees! We’re bringing the awesome art of bonsai out of the hedged in gardens and into the streets! Or at least into your favorite bars/breweries/pubs. Bonsai Bar is a night of fun you don’t want to miss. Learn the fundamental skills and techniques behind the art of bonsai while enjoying a night out with friends! Our teachers will introduce core concepts and guide your experience as you pot\, prune\, and design your very own bonsai tree! Our Guarantee: These tiny trees are so hardy we guarantee you can keep yours alive\, or we’ll replace it.
URL:https://visit-marlborough.com/event/bonsai-bar-flying-dreams-9/
LOCATION:Flying Dreams Brewing Co.\, 277 Main Street\, Marlborough\, MA\, 01752\, United States
END:VEVENT
BEGIN:VEVENT
DTSTART;TZID=America/New_York:20251218T193000
DTEND;TZID=America/New_York:20251218T223000
DTSTAMP:20260425T171934
CREATED:20251124T205730Z
LAST-MODIFIED:20251124T205730Z
UID:216850-1766086200-1766097000@visit-marlborough.com
SUMMARY:Rock Star Karaoke @ Tackle Box
DESCRIPTION:Unleash your inner rock star every Thursday night at Tackle Box Brewing Co.! Whether you’re a seasoned performer or just want to have fun\, join us for a night of karaoke\, great drinks\, and unforgettable memories. Don’t miss out on the fun!
URL:https://visit-marlborough.com/event/rock-star-karaoke-tackle-box-14/
LOCATION:Tackle Box Brewing Company\, 416 Boston Post Road East\, Marlborough\, MA\, 01752\, United States
ATTACH;FMTTYPE=image/jpeg:https://visit-marlborough.com/wp-content/uploads/2025/11/karaoke-tackle-box.jpg
END:VEVENT
BEGIN:VEVENT
DTSTART;TZID=America/New_York:20251219T200000
DTEND;TZID=America/New_York:20251219T230000
DTSTAMP:20260425T171934
CREATED:20251124T172319Z
LAST-MODIFIED:20251124T172319Z
UID:216803-1766174400-1766185200@visit-marlborough.com
SUMMARY:Live Music @ Tackle Box
DESCRIPTION:Paul Rodriguez Band \nLet’s kick off the weekend with live music\, good vibes\, and an unforgettable performance! Don’t miss the energy\, rhythm\, and incredible sounds of Paul Rodriguez Band! See you there for a night of pure musical magic!
URL:https://visit-marlborough.com/event/live-music-tackle-box-204/
LOCATION:Tackle Box Brewing Company\, 416 Boston Post Road East\, Marlborough\, MA\, 01752\, United States
ATTACH;FMTTYPE=image/jpeg:https://visit-marlborough.com/wp-content/uploads/2025/11/Paul-R-Tackle-Box.jpg
END:VEVENT
BEGIN:VEVENT
DTSTART;TZID=America/New_York:20251220T110000
DTEND;TZID=America/New_York:20251220T123000
DTSTAMP:20260425T171934
CREATED:20251124T213114Z
LAST-MODIFIED:20251124T213114Z
UID:216878-1766228400-1766233800@visit-marlborough.com
SUMMARY:Yoga in the Brewery @ Tackle Box
DESCRIPTION:YOGA + BEER: The best of both worlds!\nEnjoy your late Saturday morning with a 60-minute all-levels yoga class\, led by 200-Hr CYT Al Dewsnap to fun and uplifting music in the empty brewery! Please bring your own mat! Class takes place from 11-12 and will be followed with a refreshing craft beer or seltzer courtesy of Tackle Box Brewing Co. when the taproom opens at noon. \nTicket includes one drink ticket to be used for a pour in the taproom. Come with friends and hang around for a bit to enjoy your Saturday afternoon! \nPlease note the following:\n 	Attendees under the age of 21 MUST be accompanied by a parent or guardian who is also registered for class. Parents/guardians who are accompanying an under-21 student are responsible for the drink ticket included with their admission cost. Because there is limited space at the venue\, you must notify me at least 24 hours in advance if you cannot attend to guarantee refund. Within 24 hours\, I will issue a refund only if we are able to fill your spot. Please reach out at aldewsnapyoga@gmail.com in this situation. (Note that Eventbrite processing fees are non-refundable!)
URL:https://visit-marlborough.com/event/yoga-in-the-brewery-tackle-box-55/
LOCATION:Tackle Box Brewing Company\, 416 Boston Post Road East\, Marlborough\, MA\, 01752\, United States
END:VEVENT
BEGIN:VEVENT
DTSTART;TZID=America/New_York:20251220T150000
DTEND;TZID=America/New_York:20251220T170000
DTSTAMP:20260425T171934
CREATED:20251125T161158Z
LAST-MODIFIED:20251125T161158Z
UID:216931-1766242800-1766250000@visit-marlborough.com
SUMMARY:Paint Night @ Flying Dreams
DESCRIPTION:Paint Nite: Palette Snowman\nTitle: Palette Snowman Canvas Painting at Flying Dreams Brewing Co. \nDate & Time: Saturday\, December 20th\, from 3:00 PM – 5:00 PM
URL:https://visit-marlborough.com/event/paint-night-flying-dreams-3/
LOCATION:Flying Dreams Brewing Co.\, 277 Main Street\, Marlborough\, MA\, 01752\, United States
ATTACH;FMTTYPE=image/jpeg:https://visit-marlborough.com/wp-content/uploads/2025/11/paint-night-flying-dreams.jpeg
END:VEVENT
BEGIN:VEVENT
DTSTART;TZID=America/New_York:20251220T200000
DTEND;TZID=America/New_York:20251220T230000
DTSTAMP:20260425T171934
CREATED:20251124T172539Z
LAST-MODIFIED:20251124T172539Z
UID:216806-1766260800-1766271600@visit-marlborough.com
SUMMARY:Live Music @ Tackle Box
DESCRIPTION:Whiskey Cherrybomb \nGet ready for a night of high-energy rock\, cold brews\, and good vibes. Don’t miss it! No cover. All are welcome!
URL:https://visit-marlborough.com/event/live-music-tackle-box-205/
LOCATION:Tackle Box Brewing Company\, 416 Boston Post Road East\, Marlborough\, MA\, 01752\, United States
ATTACH;FMTTYPE=image/jpeg:https://visit-marlborough.com/wp-content/uploads/2025/11/Whiskey-Tackle-Box.jpg
END:VEVENT
BEGIN:VEVENT
DTSTART;TZID=America/New_York:20251223T190000
DTEND;TZID=America/New_York:20251223T210000
DTSTAMP:20260425T171934
CREATED:20251124T163735Z
LAST-MODIFIED:20251124T163735Z
UID:216766-1766516400-1766523600@visit-marlborough.com
SUMMARY:Geeks Who Drink Trivia @ Lost Shoe
DESCRIPTION:Trivia Night starting at 7 pm!
URL:https://visit-marlborough.com/event/geeks-who-drink-trivia-lost-shoe-100/
LOCATION:Lost Shoe Brewing & Roasting Co.\, 19 Weed Street\, Marlborough\, MA\, 01752\, United States
END:VEVENT
BEGIN:VEVENT
DTSTART;TZID=America/New_York:20251226T200000
DTEND;TZID=America/New_York:20251226T230000
DTSTAMP:20260425T171934
CREATED:20251124T172745Z
LAST-MODIFIED:20251124T172745Z
UID:216809-1766779200-1766790000@visit-marlborough.com
SUMMARY:Live Music @ Tackle Box
DESCRIPTION:Christopher Principe\nJoin us for an awesome night as Christopher Principe rocks the stage! Cold craft beer! Great live music! The perfect night out!
URL:https://visit-marlborough.com/event/live-music-tackle-box-206/
LOCATION:Tackle Box Brewing Company\, 416 Boston Post Road East\, Marlborough\, MA\, 01752\, United States
ATTACH;FMTTYPE=image/jpeg:https://visit-marlborough.com/wp-content/uploads/2025/11/Principe-Tackle-Box.jpg
END:VEVENT
BEGIN:VEVENT
DTSTART;TZID=America/New_York:20251227T200000
DTEND;TZID=America/New_York:20251227T230000
DTSTAMP:20260425T171934
CREATED:20251124T173643Z
LAST-MODIFIED:20251124T173643Z
UID:216818-1766865600-1766876400@visit-marlborough.com
SUMMARY:Live Music @ Tackle Box
DESCRIPTION:Rose Gold Glasses\nGet ready for a night of lively folk rock as Rose Gold Glasses takes the stage! Bring your friends\, grab a beer\, and enjoy great music in a fun\, laid-back vibe. No cover.
URL:https://visit-marlborough.com/event/live-music-tackle-box-208/
LOCATION:Tackle Box Brewing Company\, 416 Boston Post Road East\, Marlborough\, MA\, 01752\, United States
ATTACH;FMTTYPE=image/jpeg:https://visit-marlborough.com/wp-content/uploads/2025/11/Rose-Tackle-Box.jpg
END:VEVENT
BEGIN:VEVENT
DTSTART;TZID=America/New_York:20251228T170000
DTEND;TZID=America/New_York:20251228T190000
DTSTAMP:20260425T171934
CREATED:20251124T165634Z
LAST-MODIFIED:20251124T165634Z
UID:216784-1766941200-1766948400@visit-marlborough.com
SUMMARY:Drag Bingo @ Lost Shoe
DESCRIPTION:Join us for Drag Bingo! The queens will put on a spectacular performance while you play Bingo to win prizes! This event is 18+. Must be 21+ to consume alcohol.\nA ticket is required to attend this event. Doors open at 4:00PM\, shows start at 5PM. Ticket includes entry into the event. Seating is on a first come\, first serve basis. No need to print your tickets – check in with the host with the name on your reservation. Additional bingo cards can be purchased for more chances to win!
URL:https://visit-marlborough.com/event/drag-bingo-lost-shoe-4/
LOCATION:Lost Shoe Brewing & Roasting Co.\, 19 Weed Street\, Marlborough\, MA\, 01752\, United States
END:VEVENT
BEGIN:VEVENT
DTSTART;TZID=America/New_York:20251230T190000
DTEND;TZID=America/New_York:20251230T210000
DTSTAMP:20260425T171934
CREATED:20251124T163838Z
LAST-MODIFIED:20251124T163838Z
UID:216768-1767121200-1767128400@visit-marlborough.com
SUMMARY:Geeks Who Drink Trivia @ Lost Shoe
DESCRIPTION:Trivia Night starting at 7 pm!
URL:https://visit-marlborough.com/event/geeks-who-drink-trivia-lost-shoe-101/
LOCATION:Lost Shoe Brewing & Roasting Co.\, 19 Weed Street\, Marlborough\, MA\, 01752\, United States
END:VEVENT
BEGIN:VEVENT
DTSTART;TZID=America/New_York:20251231T210000
DTEND;TZID=America/New_York:20251231T235900
DTSTAMP:20260425T171934
CREATED:20251124T172949Z
LAST-MODIFIED:20251124T173458Z
UID:216812-1767214800-1767225540@visit-marlborough.com
SUMMARY:Live Music @ Tackle Box
DESCRIPTION:Minor Arcana\nGet ready – Minor Arcana is rocking the stage at Tackle Box Brewing Co.! This powerhouse band brings the energy of Foo Fighters\, the raw emotion of Alanis Morissette\, the attitude of Pink\, and the punk punch of Green Day. Expect big hooks\, bold vibes\, and nonstop rock anthems from the ’90s through today.\nCome for the beer\, stay for the show. Great music. Cold brews. Good vibes. Don’t miss it – Minor Arcana!
URL:https://visit-marlborough.com/event/live-music-tackle-box-207/
LOCATION:Tackle Box Brewing Company\, 416 Boston Post Road East\, Marlborough\, MA\, 01752\, United States
ATTACH;FMTTYPE=image/jpeg:https://visit-marlborough.com/wp-content/uploads/2025/11/NYE-Tackle-Box.jpg
END:VEVENT
END:VCALENDAR