BEGIN:VCALENDAR
VERSION:2.0
PRODID:-//Visit Marlborough - ECPv6.15.20//NONSGML v1.0//EN
CALSCALE:GREGORIAN
METHOD:PUBLISH
X-WR-CALNAME:Visit Marlborough
X-ORIGINAL-URL:https://visit-marlborough.com
X-WR-CALDESC:Events for Visit Marlborough
REFRESH-INTERVAL;VALUE=DURATION:PT1H
X-Robots-Tag:noindex
X-PUBLISHED-TTL:PT1H
BEGIN:VTIMEZONE
TZID:America/New_York
BEGIN:DAYLIGHT
TZOFFSETFROM:-0500
TZOFFSETTO:-0400
TZNAME:EDT
DTSTART:20220313T070000
END:DAYLIGHT
BEGIN:STANDARD
TZOFFSETFROM:-0400
TZOFFSETTO:-0500
TZNAME:EST
DTSTART:20221106T060000
END:STANDARD
BEGIN:DAYLIGHT
TZOFFSETFROM:-0500
TZOFFSETTO:-0400
TZNAME:EDT
DTSTART:20230312T070000
END:DAYLIGHT
BEGIN:STANDARD
TZOFFSETFROM:-0400
TZOFFSETTO:-0500
TZNAME:EST
DTSTART:20231105T060000
END:STANDARD
BEGIN:DAYLIGHT
TZOFFSETFROM:-0500
TZOFFSETTO:-0400
TZNAME:EDT
DTSTART:20240310T070000
END:DAYLIGHT
BEGIN:STANDARD
TZOFFSETFROM:-0400
TZOFFSETTO:-0500
TZNAME:EST
DTSTART:20241103T060000
END:STANDARD
END:VTIMEZONE
BEGIN:VEVENT
DTSTART;TZID=America/New_York:20231101T193000
DTEND;TZID=America/New_York:20231101T210000
DTSTAMP:20260421T105210
CREATED:20231030T192253Z
LAST-MODIFIED:20231030T192253Z
UID:213478-1698867000-1698872400@visit-marlborough.com
SUMMARY:Trivia @ Tackle Box Brewing
DESCRIPTION:Trivia Night!!
URL:https://visit-marlborough.com/event/trivia-tackle-box-brewing-62/
LOCATION:Tackle Box Brewing Company\, 416 Boston Post Road East\, Marlborough\, MA\, 01752\, United States
END:VEVENT
BEGIN:VEVENT
DTSTART;TZID=America/New_York:20231102T180000
DTEND;TZID=America/New_York:20231102T200000
DTSTAMP:20260421T105210
CREATED:20231030T194021Z
LAST-MODIFIED:20231030T194021Z
UID:213488-1698948000-1698955200@visit-marlborough.com
SUMMARY:Book Club @ Tackle Box
DESCRIPTION:Book Club night!
URL:https://visit-marlborough.com/event/book-club-tackle-box-13/
LOCATION:Tackle Box Brewing Company\, 416 Boston Post Road East\, Marlborough\, MA\, 01752\, United States
END:VEVENT
BEGIN:VEVENT
DTSTART;TZID=America/New_York:20231102T200000
DTEND;TZID=America/New_York:20231102T220000
DTSTAMP:20260421T105210
CREATED:20231030T194144Z
LAST-MODIFIED:20231030T194144Z
UID:213490-1698955200-1698962400@visit-marlborough.com
SUMMARY:Karaoke Night @ Tackle Box
DESCRIPTION:Karaoke Night!
URL:https://visit-marlborough.com/event/karaoke-night-tackle-box-27/
LOCATION:Tackle Box Brewing Company\, 416 Boston Post Road East\, Marlborough\, MA\, 01752\, United States
END:VEVENT
BEGIN:VEVENT
DTSTART;TZID=America/New_York:20231103T190000
DTEND;TZID=America/New_York:20231103T220000
DTSTAMP:20260421T105210
CREATED:20231030T194257Z
LAST-MODIFIED:20231030T194257Z
UID:213138-1699038000-1699048800@visit-marlborough.com
SUMMARY:Live Music @ Tackle Box
DESCRIPTION:Live Music with Element!
URL:https://visit-marlborough.com/event/live-music-tackle-box-136/
LOCATION:Tackle Box Brewing Company\, 416 Boston Post Road East\, Marlborough\, MA\, 01752\, United States
END:VEVENT
BEGIN:VEVENT
DTSTART;TZID=America/New_York:20231104T190000
DTEND;TZID=America/New_York:20231104T220000
DTSTAMP:20260421T105210
CREATED:20231030T194346Z
LAST-MODIFIED:20231030T194346Z
UID:213493-1699124400-1699135200@visit-marlborough.com
SUMMARY:Live Music @ Tackle Box
DESCRIPTION:Live Music with Shady Armadillo!
URL:https://visit-marlborough.com/event/live-music-tackle-box-137/
LOCATION:Tackle Box Brewing Company\, 416 Boston Post Road East\, Marlborough\, MA\, 01752\, United States
END:VEVENT
BEGIN:VEVENT
DTSTART;TZID=America/New_York:20231105T160000
DTEND;TZID=America/New_York:20231105T180000
DTSTAMP:20260421T105210
CREATED:20231031T134757Z
LAST-MODIFIED:20231031T134757Z
UID:213525-1699200000-1699207200@visit-marlborough.com
SUMMARY:Crafts n Drafts @ Tackle Box
DESCRIPTION:Crafts n Drafts: Pressed Flower Lanterns \nUsing flowers of your choice to decoupage a mason jar\, use additional various media to make a lantern handle and personalize your lid. Opt for a battery-operated tea light or string of lights to complete the project… all while drinking amazing beers and seltzers in a lively and spacious brewery. Bring your partners to watch sports and play pool and lawn games while you craft\, or make them join in the fun! \nTickets: https://www.eventbrite.com/e/crafts-n-drafts-pressed-flower-lantern-tickets-721299364817?fbclid=IwAR3hLAO9ETm7OGx4SPTrg28z8UvG7gv-1ud4U3rf6m2F2lOH_gF32q9AZE8 \n 
URL:https://visit-marlborough.com/event/crafts-n-drafts-tackle-box/
LOCATION:Tackle Box Brewing Company\, 416 Boston Post Road East\, Marlborough\, MA\, 01752\, United States
ORGANIZER;CN="Wicked Good Henna":MAILTO:mandy@wickedgoodhenna.com
END:VEVENT
BEGIN:VEVENT
DTSTART;TZID=America/New_York:20231107T183000
DTEND;TZID=America/New_York:20231107T193000
DTSTAMP:20260421T105210
CREATED:20231030T200224Z
LAST-MODIFIED:20231030T200224Z
UID:213507-1699381800-1699385400@visit-marlborough.com
SUMMARY:Line Dancing @ Tackle Box
DESCRIPTION:Invite your friends! We have just added to our Boots and Brews series! \nNo cover\, step by step lessons\, and request songs as well!
URL:https://visit-marlborough.com/event/line-dancing-tackle-box/
LOCATION:Tackle Box Brewing Company\, 416 Boston Post Road East\, Marlborough\, MA\, 01752\, United States
END:VEVENT
BEGIN:VEVENT
DTSTART;TZID=America/New_York:20231108T193000
DTEND;TZID=America/New_York:20231108T210000
DTSTAMP:20260421T105210
CREATED:20231030T192606Z
LAST-MODIFIED:20231030T192606Z
UID:213480-1699471800-1699477200@visit-marlborough.com
SUMMARY:Trivia @ Tackle Box Brewing
DESCRIPTION:Trivia Night!!
URL:https://visit-marlborough.com/event/trivia-tackle-box-brewing-63/
LOCATION:Tackle Box Brewing Company\, 416 Boston Post Road East\, Marlborough\, MA\, 01752\, United States
END:VEVENT
BEGIN:VEVENT
DTSTART;TZID=America/New_York:20231109T190000
DTEND;TZID=America/New_York:20231109T220000
DTSTAMP:20260421T105210
CREATED:20231030T200539Z
LAST-MODIFIED:20231030T200539Z
UID:213511-1699556400-1699567200@visit-marlborough.com
SUMMARY:Open Mic @ Tackle Box
DESCRIPTION:Open Mic Night!! Starting at 7 pm!
URL:https://visit-marlborough.com/event/open-mic-tackle-box-55/
LOCATION:Tackle Box Brewing Company\, 416 Boston Post Road East\, Marlborough\, MA\, 01752\, United States
END:VEVENT
BEGIN:VEVENT
DTSTART;TZID=America/New_York:20231110T210000
DTEND;TZID=America/New_York:20231110T230000
DTSTAMP:20260421T105210
CREATED:20231030T201053Z
LAST-MODIFIED:20231030T201053Z
UID:213517-1699650000-1699657200@visit-marlborough.com
SUMMARY:Laughing Lure Comedy Night @ Tackle Box Brewing
DESCRIPTION:Laughing Lure Comedy night!
URL:https://visit-marlborough.com/event/laughing-lure-comedy-night-tackle-box-brewing-16/
LOCATION:Tackle Box Brewing Company\, 416 Boston Post Road East\, Marlborough\, MA\, 01752\, United States
END:VEVENT
BEGIN:VEVENT
DTSTART;TZID=America/New_York:20231111T110000
DTEND;TZID=America/New_York:20231111T120000
DTSTAMP:20260421T105210
CREATED:20231030T201324Z
LAST-MODIFIED:20231030T201324Z
UID:213519-1699700400-1699704000@visit-marlborough.com
SUMMARY:Yoga in the Brewery @ Tackle Box
DESCRIPTION:Join us for a 60-minute all-levels yoga class in the brewery\, followed by a refreshing craft beer on tap! (1 drink included w/ ticket!)\nYOGA + BEER: The best of both worlds!\nEnjoy your late Saturday morning with a 60-minute all-levels yoga class\, led by 200-Hr CYT Al Dewsnap to fun and uplifting music in the empty brewery! Class takes place from 11-12 and will be followed with a refreshing beer courtesy of Tackle Box Brewing Co. when the taproom opens at noon.\nTicket includes one drink ticket to be used for a pour in the taproom. Come with friends and hang around for a bit to enjoy your Saturday afternoon!\nPLEASE BRING YOUR OWN MAT!
URL:https://visit-marlborough.com/event/yoga-in-the-brewery-tackle-box-35/
LOCATION:Tackle Box Brewing Company\, 416 Boston Post Road East\, Marlborough\, MA\, 01752\, United States
END:VEVENT
BEGIN:VEVENT
DTSTART;TZID=America/New_York:20231111T190000
DTEND;TZID=America/New_York:20231111T220000
DTSTAMP:20260421T105210
CREATED:20231030T194449Z
LAST-MODIFIED:20231030T194449Z
UID:213495-1699729200-1699740000@visit-marlborough.com
SUMMARY:Live Music @ Tackle Box
DESCRIPTION:Live Music with the Tony Soul Project!
URL:https://visit-marlborough.com/event/live-music-tackle-box-138/
LOCATION:Tackle Box Brewing Company\, 416 Boston Post Road East\, Marlborough\, MA\, 01752\, United States
END:VEVENT
BEGIN:VEVENT
DTSTART;TZID=America/New_York:20231112T113000
DTEND;TZID=America/New_York:20231112T140000
DTSTAMP:20260421T105210
CREATED:20231030T194740Z
LAST-MODIFIED:20231030T194740Z
UID:213497-1699788600-1699797600@visit-marlborough.com
SUMMARY:Live Music @ Tackle Box
DESCRIPTION:Live Music with Bridget Eileen!
URL:https://visit-marlborough.com/event/live-music-tackle-box-139/
LOCATION:Tackle Box Brewing Company\, 416 Boston Post Road East\, Marlborough\, MA\, 01752\, United States
END:VEVENT
BEGIN:VEVENT
DTSTART;TZID=America/New_York:20231112T113000
DTEND;TZID=America/New_York:20231112T140000
DTSTAMP:20260421T105210
CREATED:20231030T201616Z
LAST-MODIFIED:20231030T201616Z
UID:213523-1699788600-1699797600@visit-marlborough.com
SUMMARY:Kegs & Eggs\, Sunday Brunch @ Tackle Box
DESCRIPTION:Enjoy Kegs & Eggs Sunday Brunch with Tackle Box Brewery!
URL:https://visit-marlborough.com/event/kegs-eggs-sunday-brunch-tackle-box-8/
LOCATION:Tackle Box Brewing Company\, 416 Boston Post Road East\, Marlborough\, MA\, 01752\, United States
END:VEVENT
BEGIN:VEVENT
DTSTART;TZID=America/New_York:20231115T193000
DTEND;TZID=America/New_York:20231115T210000
DTSTAMP:20260421T105210
CREATED:20231030T192814Z
LAST-MODIFIED:20231030T192814Z
UID:213482-1700076600-1700082000@visit-marlborough.com
SUMMARY:Trivia @ Tackle Box Brewing
DESCRIPTION:Trivia Night!!
URL:https://visit-marlborough.com/event/trivia-tackle-box-brewing-64/
LOCATION:Tackle Box Brewing Company\, 416 Boston Post Road East\, Marlborough\, MA\, 01752\, United States
END:VEVENT
BEGIN:VEVENT
DTSTART;TZID=America/New_York:20231116T180000
DTEND;TZID=America/New_York:20231116T200000
DTSTAMP:20260421T105210
CREATED:20231031T150631Z
LAST-MODIFIED:20231031T150631Z
UID:213528-1700157600-1700164800@visit-marlborough.com
SUMMARY:Sip 'N Paint @ Tackle Box
DESCRIPTION:Join us for a fun night of painting and great drinks at Tackle Box Brewery in Marlborough! Whether you’re a newbie or a picasso\, step-by-step instruction ensures everyone leaves with a painting they’re proud of! This painting can be customized\, you can write any word\, name\, or phrase you’d like\, or leave it blank! The painting is yours and creativity is encouraged! We can’t wait to paint & sip with you!
URL:https://visit-marlborough.com/event/sip-n-paint-tackle-box-3/
LOCATION:Tackle Box Brewing Company\, 416 Boston Post Road East\, Marlborough\, MA\, 01752\, United States
END:VEVENT
BEGIN:VEVENT
DTSTART;TZID=America/New_York:20231116T190000
DTEND;TZID=America/New_York:20231116T220000
DTSTAMP:20260421T105210
CREATED:20231030T200631Z
LAST-MODIFIED:20231030T200631Z
UID:213513-1700161200-1700172000@visit-marlborough.com
SUMMARY:Open Mic @ Tackle Box
DESCRIPTION:Open Mic Night!! Starting at 7 pm!
URL:https://visit-marlborough.com/event/open-mic-tackle-box-56/
LOCATION:Tackle Box Brewing Company\, 416 Boston Post Road East\, Marlborough\, MA\, 01752\, United States
END:VEVENT
BEGIN:VEVENT
DTSTART;TZID=America/New_York:20231117T190000
DTEND;TZID=America/New_York:20231117T220000
DTSTAMP:20260421T105210
CREATED:20231030T194921Z
LAST-MODIFIED:20231030T194921Z
UID:213499-1700247600-1700258400@visit-marlborough.com
SUMMARY:Live Music @ Tackle Box
DESCRIPTION:Live Music with JJ Dale!
URL:https://visit-marlborough.com/event/live-music-tackle-box-140/
LOCATION:Tackle Box Brewing Company\, 416 Boston Post Road East\, Marlborough\, MA\, 01752\, United States
END:VEVENT
BEGIN:VEVENT
DTSTART;TZID=America/New_York:20231118T110000
DTEND;TZID=America/New_York:20231118T120000
DTSTAMP:20260421T105210
CREATED:20231031T152958Z
LAST-MODIFIED:20231031T152958Z
UID:213530-1700305200-1700308800@visit-marlborough.com
SUMMARY:Barre at the Bar @ Tackle Box
DESCRIPTION:Grab a friend and come to the barre (before the bar opens)! \nJoin us for a 60-minute\, all-levels barre class led by Barre Above instructor Kathy Hirsh. Put on your favorite workout outfit\, barre socks or sneakers and bring your own yoga mat. \nThis is the perfect time to try barre for the first time! Modifications will be given by the instructor for beginners and advanced students. Class takes place from 11 a.m. – 12 p.m. We ask that you arrive 15 minutes early to get ready. Enjoy a refreshing craft beer or seltzer courtesy of Tackle Box Brewing Co. when the taproom opens at noon. Admission includes 1 drink ticket to be used for a pour in the taproom. \nCome with friends and hang around for a bit to enjoy your Saturday afternoon. \nPlease note the following: Attendees under the age of 21 MUST be accompanied by a parent or guardian who is also registered for class. Parents/guardians who are accompanying an under-21 student are responsible for the drink ticket included with their admission cost. \nBecause there is limited space at the venue\, you must notify me at least 24-hours in advance if you cannot attend to guarantee a refund. Within 24 hours\, I will issue a refund only if we are able to fill your spot. Please reach out at kathleen_hirsh@yahoo.com in this situation. \n(Note that Eventbrite processing fees are non-refundable.)
URL:https://visit-marlborough.com/event/barre-at-the-bar-tackle-box/
LOCATION:Tackle Box Brewing Company\, 416 Boston Post Road East\, Marlborough\, MA\, 01752\, United States
END:VEVENT
BEGIN:VEVENT
DTSTART;TZID=America/New_York:20231118T130000
DTEND;TZID=America/New_York:20231118T150000
DTSTAMP:20260421T105210
CREATED:20231031T153638Z
LAST-MODIFIED:20231031T153638Z
UID:213532-1700312400-1700319600@visit-marlborough.com
SUMMARY:Speed Dating @ Tackle Box
DESCRIPTION:Let’s face it\, we’re all tired of swiping over and over again on people who may or may not look like or be like the person they’re portraying on the apps. That’s where we come in! This in person speed dating event will allow you to meet new people in your area and actually talk with them before committing to a date. \nThis event is geared towards singles in their 20’s\, 30’s and 40’s. \nYour tickets also includes one drink from the bar (beer\, seltzer\, or choice of non-alcoholic beverages). \nAt the end of the event you’ll be able to indicate people you’d like to talk to again in the future. If they’re also interested in you we’ll give you each other’s contact information. \nWe try to keep our attendees balanced between genders but sometimes we have a few more women than men and other times we have a few more men than women. \nBecause there is limited space at the venue\, please notify the hosts 48 hours in advance f you cannot attend to guarantee refund. Within 48 hours\, we will issue a refund only if we are able to fill your spot. (Note that Eventbrite processing fees are non-refundable!)
URL:https://visit-marlborough.com/event/speed-dating-tackle-box-2/
LOCATION:Tackle Box Brewing Company\, 416 Boston Post Road East\, Marlborough\, MA\, 01752\, United States
END:VEVENT
BEGIN:VEVENT
DTSTART;TZID=America/New_York:20231118T190000
DTEND;TZID=America/New_York:20231118T220000
DTSTAMP:20260421T105210
CREATED:20231030T195611Z
LAST-MODIFIED:20231030T195611Z
UID:213501-1700334000-1700344800@visit-marlborough.com
SUMMARY:Live Music @ Tackle Box
DESCRIPTION:Live Music with Sonic Union!
URL:https://visit-marlborough.com/event/live-music-tackle-box-141/
LOCATION:Tackle Box Brewing Company\, 416 Boston Post Road East\, Marlborough\, MA\, 01752\, United States
END:VEVENT
BEGIN:VEVENT
DTSTART;TZID=America/New_York:20231121T183000
DTEND;TZID=America/New_York:20231121T193000
DTSTAMP:20260421T105210
CREATED:20231030T200400Z
LAST-MODIFIED:20231030T200400Z
UID:213509-1700591400-1700595000@visit-marlborough.com
SUMMARY:Line Dancing @ Tackle Box
DESCRIPTION:Invite your friends! We have just added to our Boots and Brews series! \nNo cover\, step by step lessons\, and request songs as well!
URL:https://visit-marlborough.com/event/line-dancing-tackle-box-2/
LOCATION:Tackle Box Brewing Company\, 416 Boston Post Road East\, Marlborough\, MA\, 01752\, United States
END:VEVENT
BEGIN:VEVENT
DTSTART;TZID=America/New_York:20231122T193000
DTEND;TZID=America/New_York:20231122T210000
DTSTAMP:20260421T105210
CREATED:20231030T192913Z
LAST-MODIFIED:20231030T192913Z
UID:213484-1700681400-1700686800@visit-marlborough.com
SUMMARY:Trivia @ Tackle Box Brewing
DESCRIPTION:Trivia Night!!
URL:https://visit-marlborough.com/event/trivia-tackle-box-brewing-65/
LOCATION:Tackle Box Brewing Company\, 416 Boston Post Road East\, Marlborough\, MA\, 01752\, United States
END:VEVENT
BEGIN:VEVENT
DTSTART;TZID=America/New_York:20231122T213000
DTEND;TZID=America/New_York:20231122T230000
DTSTAMP:20260421T105210
CREATED:20231030T195719Z
LAST-MODIFIED:20231030T195719Z
UID:213503-1700688600-1700694000@visit-marlborough.com
SUMMARY:Live Music @ Tackle Box
DESCRIPTION:Live Music with the Moscas!
URL:https://visit-marlborough.com/event/live-music-tackle-box-142/
LOCATION:Tackle Box Brewing Company\, 416 Boston Post Road East\, Marlborough\, MA\, 01752\, United States
END:VEVENT
BEGIN:VEVENT
DTSTART;TZID=America/New_York:20231125T110000
DTEND;TZID=America/New_York:20231125T120000
DTSTAMP:20260421T105210
CREATED:20231030T201456Z
LAST-MODIFIED:20231030T201456Z
UID:213521-1700910000-1700913600@visit-marlborough.com
SUMMARY:Yoga in the Brewery @ Tackle Box
DESCRIPTION:Join us for a 60-minute all-levels yoga class in the brewery\, followed by a refreshing craft beer on tap! (1 drink included w/ ticket!)\nYOGA + BEER: The best of both worlds!\nEnjoy your late Saturday morning with a 60-minute all-levels yoga class\, led by 200-Hr CYT Al Dewsnap to fun and uplifting music in the empty brewery! Class takes place from 11-12 and will be followed with a refreshing beer courtesy of Tackle Box Brewing Co. when the taproom opens at noon.\nTicket includes one drink ticket to be used for a pour in the taproom. Come with friends and hang around for a bit to enjoy your Saturday afternoon!\nPLEASE BRING YOUR OWN MAT!
URL:https://visit-marlborough.com/event/yoga-in-the-brewery-tackle-box-36/
LOCATION:Tackle Box Brewing Company\, 416 Boston Post Road East\, Marlborough\, MA\, 01752\, United States
END:VEVENT
BEGIN:VEVENT
DTSTART;TZID=America/New_York:20231125T190000
DTEND;TZID=America/New_York:20231125T220000
DTSTAMP:20260421T105210
CREATED:20231030T195815Z
LAST-MODIFIED:20231030T195815Z
UID:213505-1700938800-1700949600@visit-marlborough.com
SUMMARY:Live Music @ Tackle Box
DESCRIPTION:Live Music with the Z Company!
URL:https://visit-marlborough.com/event/live-music-tackle-box-143/
LOCATION:Tackle Box Brewing Company\, 416 Boston Post Road East\, Marlborough\, MA\, 01752\, United States
END:VEVENT
BEGIN:VEVENT
DTSTART;TZID=America/New_York:20231129T193000
DTEND;TZID=America/New_York:20231129T210000
DTSTAMP:20260421T105210
CREATED:20231030T192946Z
LAST-MODIFIED:20231030T192946Z
UID:213486-1701286200-1701291600@visit-marlborough.com
SUMMARY:Trivia @ Tackle Box Brewing
DESCRIPTION:Trivia Night!!
URL:https://visit-marlborough.com/event/trivia-tackle-box-brewing-66/
LOCATION:Tackle Box Brewing Company\, 416 Boston Post Road East\, Marlborough\, MA\, 01752\, United States
END:VEVENT
BEGIN:VEVENT
DTSTART;TZID=America/New_York:20231130T190000
DTEND;TZID=America/New_York:20231130T210000
DTSTAMP:20260421T105210
CREATED:20230926T150231Z
LAST-MODIFIED:20230926T150231Z
UID:213172-1701370800-1701378000@visit-marlborough.com
SUMMARY:Bonsai Bar @ Flying Dreams
DESCRIPTION:Beginner workshops are perfect for you to grab your friends\, grab a drink and come make tiny trees! We’re bringing the awesome art of bonsai out of the hedged in gardens and into the streets! Or at least into your favorite bars/breweries/pubs. Bonsai Bar is a night of fun you don’t want to miss. Learn the fundamental skills and techniques behind the art of bonsai while enjoying a night out with friends! Our teachers will introduce core concepts and guide your experience as you pot\, prune\, and design your very own bonsai tree!
URL:https://visit-marlborough.com/event/bonsai-bar-flying-dreams-3/
LOCATION:Flying Dreams Brewing Co.\, 277 Main Street\, Marlborough\, MA\, 01752\, United States
END:VEVENT
BEGIN:VEVENT
DTSTART;TZID=America/New_York:20231130T190000
DTEND;TZID=America/New_York:20231130T220000
DTSTAMP:20260421T105210
CREATED:20231030T200721Z
LAST-MODIFIED:20231030T200721Z
UID:213515-1701370800-1701381600@visit-marlborough.com
SUMMARY:Open Mic @ Tackle Box
DESCRIPTION:Open Mic Night!! Starting at 7 pm!
URL:https://visit-marlborough.com/event/open-mic-tackle-box-57/
LOCATION:Tackle Box Brewing Company\, 416 Boston Post Road East\, Marlborough\, MA\, 01752\, United States
END:VEVENT
END:VCALENDAR