BEGIN:VCALENDAR
VERSION:2.0
PRODID:-//Visit Marlborough - ECPv6.15.20//NONSGML v1.0//EN
CALSCALE:GREGORIAN
METHOD:PUBLISH
X-ORIGINAL-URL:https://visit-marlborough.com
X-WR-CALDESC:Events for Visit Marlborough
REFRESH-INTERVAL;VALUE=DURATION:PT1H
X-Robots-Tag:noindex
X-PUBLISHED-TTL:PT1H
BEGIN:VTIMEZONE
TZID:America/New_York
BEGIN:DAYLIGHT
TZOFFSETFROM:-0500
TZOFFSETTO:-0400
TZNAME:EDT
DTSTART:20220313T070000
END:DAYLIGHT
BEGIN:STANDARD
TZOFFSETFROM:-0400
TZOFFSETTO:-0500
TZNAME:EST
DTSTART:20221106T060000
END:STANDARD
BEGIN:DAYLIGHT
TZOFFSETFROM:-0500
TZOFFSETTO:-0400
TZNAME:EDT
DTSTART:20230312T070000
END:DAYLIGHT
BEGIN:STANDARD
TZOFFSETFROM:-0400
TZOFFSETTO:-0500
TZNAME:EST
DTSTART:20231105T060000
END:STANDARD
BEGIN:DAYLIGHT
TZOFFSETFROM:-0500
TZOFFSETTO:-0400
TZNAME:EDT
DTSTART:20240310T070000
END:DAYLIGHT
BEGIN:STANDARD
TZOFFSETFROM:-0400
TZOFFSETTO:-0500
TZNAME:EST
DTSTART:20241103T060000
END:STANDARD
END:VTIMEZONE
BEGIN:VEVENT
DTSTART;TZID=America/New_York:20230704T190000
DTEND;TZID=America/New_York:20230704T210000
DTSTAMP:20260421T172740
CREATED:20230706T153551Z
LAST-MODIFIED:20230706T153551Z
UID:212860-1688497200-1688504400@visit-marlborough.com
SUMMARY:Geeks Who Drink Trivia @ Lost Shoe
DESCRIPTION:Trivia Night starting at 7 pm!
URL:https://visit-marlborough.com/event/geeks-who-drink-trivia-lost-shoe-25/
LOCATION:Lost Shoe Brewing & Roasting Co.\, 19 Weed Street\, Marlborough\, MA\, 01752\, United States
END:VEVENT
BEGIN:VEVENT
DTSTART;TZID=America/New_York:20230705T193000
DTEND;TZID=America/New_York:20230705T210000
DTSTAMP:20260421T172740
CREATED:20230705T180013Z
LAST-MODIFIED:20230705T180013Z
UID:212768-1688585400-1688590800@visit-marlborough.com
SUMMARY:Trivia @ Tackle Box Brewing
DESCRIPTION:Trivia Night!!
URL:https://visit-marlborough.com/event/trivia-tackle-box-brewing-54/
LOCATION:Tackle Box Brewing Company\, 416 Boston Post Road East\, Marlborough\, MA\, 01752\, United States
END:VEVENT
BEGIN:VEVENT
DTSTART;TZID=America/New_York:20230706T180000
DTEND;TZID=America/New_York:20230706T200000
DTSTAMP:20260421T172740
CREATED:20230705T180600Z
LAST-MODIFIED:20230705T180600Z
UID:212342-1688666400-1688673600@visit-marlborough.com
SUMMARY:Book Club @ Tackle Box
DESCRIPTION:Book Club night!
URL:https://visit-marlborough.com/event/book-club-tackle-box-12/
LOCATION:Tackle Box Brewing Company\, 416 Boston Post Road East\, Marlborough\, MA\, 01752\, United States
END:VEVENT
BEGIN:VEVENT
DTSTART;TZID=America/New_York:20230706T200000
DTEND;TZID=America/New_York:20230706T220000
DTSTAMP:20260421T172740
CREATED:20230705T180840Z
LAST-MODIFIED:20230705T180840Z
UID:212779-1688673600-1688680800@visit-marlborough.com
SUMMARY:Karaoke Night @ Tackle Box
DESCRIPTION:Karaoke Night!
URL:https://visit-marlborough.com/event/karaoke-night-tackle-box-26/
LOCATION:Tackle Box Brewing Company\, 416 Boston Post Road East\, Marlborough\, MA\, 01752\, United States
END:VEVENT
BEGIN:VEVENT
DTSTART;TZID=America/New_York:20230707T190000
DTEND;TZID=America/New_York:20230707T220000
DTSTAMP:20260421T172740
CREATED:20230705T181041Z
LAST-MODIFIED:20230705T181041Z
UID:212781-1688756400-1688767200@visit-marlborough.com
SUMMARY:Live Music @ Tackle Box
DESCRIPTION:Live Music with Upright Dogs!
URL:https://visit-marlborough.com/event/live-music-tackle-box-123/
LOCATION:Tackle Box Brewing Company\, 416 Boston Post Road East\, Marlborough\, MA\, 01752\, United States
END:VEVENT
BEGIN:VEVENT
DTSTART;TZID=America/New_York:20230708T190000
DTEND;TZID=America/New_York:20230708T220000
DTSTAMP:20260421T172740
CREATED:20230705T181140Z
LAST-MODIFIED:20230705T181140Z
UID:212783-1688842800-1688853600@visit-marlborough.com
SUMMARY:Live Music @ Tackle Box
DESCRIPTION:Live Music with One Eye Jack!
URL:https://visit-marlborough.com/event/live-music-tackle-box-124/
LOCATION:Tackle Box Brewing Company\, 416 Boston Post Road East\, Marlborough\, MA\, 01752\, United States
END:VEVENT
BEGIN:VEVENT
DTSTART;TZID=America/New_York:20230711T190000
DTEND;TZID=America/New_York:20230711T210000
DTSTAMP:20260421T172740
CREATED:20230706T153635Z
LAST-MODIFIED:20230706T153635Z
UID:212862-1689102000-1689109200@visit-marlborough.com
SUMMARY:Geeks Who Drink Trivia @ Lost Shoe
DESCRIPTION:Trivia Night starting at 7 pm!
URL:https://visit-marlborough.com/event/geeks-who-drink-trivia-lost-shoe-26/
LOCATION:Lost Shoe Brewing & Roasting Co.\, 19 Weed Street\, Marlborough\, MA\, 01752\, United States
END:VEVENT
BEGIN:VEVENT
DTSTART;TZID=America/New_York:20230712T193000
DTEND;TZID=America/New_York:20230712T210000
DTSTAMP:20260421T172740
CREATED:20230705T180138Z
LAST-MODIFIED:20230705T180138Z
UID:212770-1689190200-1689195600@visit-marlborough.com
SUMMARY:Trivia @ Tackle Box Brewing
DESCRIPTION:Trivia Night!!
URL:https://visit-marlborough.com/event/trivia-tackle-box-brewing-55/
LOCATION:Tackle Box Brewing Company\, 416 Boston Post Road East\, Marlborough\, MA\, 01752\, United States
END:VEVENT
BEGIN:VEVENT
DTSTART;TZID=America/New_York:20230713T190000
DTEND;TZID=America/New_York:20230713T220000
DTSTAMP:20260421T172740
CREATED:20230705T183807Z
LAST-MODIFIED:20230705T183807Z
UID:212801-1689274800-1689285600@visit-marlborough.com
SUMMARY:Open Mic @ Tackle Box
DESCRIPTION:Open Mic Night!! Starting at 7 pm!
URL:https://visit-marlborough.com/event/open-mic-tackle-box-46/
LOCATION:Tackle Box Brewing Company\, 416 Boston Post Road East\, Marlborough\, MA\, 01752\, United States
END:VEVENT
BEGIN:VEVENT
DTSTART;TZID=America/New_York:20230714T190000
DTEND;TZID=America/New_York:20230714T220000
DTSTAMP:20260421T172740
CREATED:20230705T181259Z
LAST-MODIFIED:20230705T181259Z
UID:212785-1689361200-1689372000@visit-marlborough.com
SUMMARY:Live Music @ Tackle Box
DESCRIPTION:Live Music with Heads of Steam!
URL:https://visit-marlborough.com/event/live-music-tackle-box-125/
LOCATION:Tackle Box Brewing Company\, 416 Boston Post Road East\, Marlborough\, MA\, 01752\, United States
END:VEVENT
BEGIN:VEVENT
DTSTART;TZID=America/New_York:20230715T110000
DTEND;TZID=America/New_York:20230715T120000
DTSTAMP:20260421T172740
CREATED:20230705T185331Z
LAST-MODIFIED:20230705T185407Z
UID:212807-1689418800-1689422400@visit-marlborough.com
SUMMARY:Yoga in the Brewery @ Tackle Box
DESCRIPTION:Join us for a 60-minute all-levels yoga class in the brewery\, followed by a refreshing craft beer on tap! (1 drink included w/ ticket!)\nYOGA + BEER: The best of both worlds!\nEnjoy your late Saturday morning with a 60-minute all-levels yoga class\, led by 200-Hr CYT Al Dewsnap to fun and uplifting music in the empty brewery! Class takes place from 11-12 and will be followed with a refreshing beer courtesy of Tackle Box Brewing Co. when the taproom opens at noon.\nTicket includes one drink ticket to be used for a pour in the taproom. Come with friends and hang around for a bit to enjoy your Saturday afternoon!\nPLEASE BRING YOUR OWN MAT!
URL:https://visit-marlborough.com/event/yoga-in-the-brewery-tackle-box-31/
LOCATION:Tackle Box Brewing Company\, 416 Boston Post Road East\, Marlborough\, MA\, 01752\, United States
END:VEVENT
BEGIN:VEVENT
DTSTART;TZID=America/New_York:20230715T190000
DTEND;TZID=America/New_York:20230715T220000
DTSTAMP:20260421T172740
CREATED:20230705T181408Z
LAST-MODIFIED:20230705T181408Z
UID:212787-1689447600-1689458400@visit-marlborough.com
SUMMARY:Live Music @ Tackle Box
DESCRIPTION:Live Music with the Mancini Soul Project!
URL:https://visit-marlborough.com/event/live-music-tackle-box-126/
LOCATION:Tackle Box Brewing Company\, 416 Boston Post Road East\, Marlborough\, MA\, 01752\, United States
END:VEVENT
BEGIN:VEVENT
DTSTART;TZID=America/New_York:20230718T190000
DTEND;TZID=America/New_York:20230718T210000
DTSTAMP:20260421T172740
CREATED:20230706T153708Z
LAST-MODIFIED:20230706T153708Z
UID:212864-1689706800-1689714000@visit-marlborough.com
SUMMARY:Geeks Who Drink Trivia @ Lost Shoe
DESCRIPTION:Trivia Night starting at 7 pm!
URL:https://visit-marlborough.com/event/geeks-who-drink-trivia-lost-shoe-27/
LOCATION:Lost Shoe Brewing & Roasting Co.\, 19 Weed Street\, Marlborough\, MA\, 01752\, United States
END:VEVENT
BEGIN:VEVENT
DTSTART;TZID=America/New_York:20230719T193000
DTEND;TZID=America/New_York:20230719T210000
DTSTAMP:20260421T172740
CREATED:20230705T180304Z
LAST-MODIFIED:20230705T180304Z
UID:212772-1689795000-1689800400@visit-marlborough.com
SUMMARY:Trivia @ Tackle Box Brewing
DESCRIPTION:Trivia Night!!
URL:https://visit-marlborough.com/event/trivia-tackle-box-brewing-56/
LOCATION:Tackle Box Brewing Company\, 416 Boston Post Road East\, Marlborough\, MA\, 01752\, United States
END:VEVENT
BEGIN:VEVENT
DTSTART;TZID=America/New_York:20230720T190000
DTEND;TZID=America/New_York:20230720T220000
DTSTAMP:20260421T172740
CREATED:20230705T183850Z
LAST-MODIFIED:20230705T183850Z
UID:212803-1689879600-1689890400@visit-marlborough.com
SUMMARY:Open Mic @ Tackle Box
DESCRIPTION:Open Mic Night!! Starting at 7 pm!
URL:https://visit-marlborough.com/event/open-mic-tackle-box-47/
LOCATION:Tackle Box Brewing Company\, 416 Boston Post Road East\, Marlborough\, MA\, 01752\, United States
END:VEVENT
BEGIN:VEVENT
DTSTART;TZID=America/New_York:20230721T190000
DTEND;TZID=America/New_York:20230721T220000
DTSTAMP:20260421T172740
CREATED:20230705T181505Z
LAST-MODIFIED:20230705T181505Z
UID:212789-1689966000-1689976800@visit-marlborough.com
SUMMARY:Live Music @ Tackle Box
DESCRIPTION:Live Music with Quincy Lord!
URL:https://visit-marlborough.com/event/live-music-tackle-box-127/
LOCATION:Tackle Box Brewing Company\, 416 Boston Post Road East\, Marlborough\, MA\, 01752\, United States
END:VEVENT
BEGIN:VEVENT
DTSTART;TZID=America/New_York:20230722T170000
DTEND;TZID=America/New_York:20230722T220000
DTSTAMP:20260421T172740
CREATED:20230706T154434Z
LAST-MODIFIED:20230706T154434Z
UID:212869-1690045200-1690063200@visit-marlborough.com
SUMMARY:90's Night @ Lost Shoe
DESCRIPTION:DJ Sprino\, Cousins Maine Lobster Food Truck & The Crafted Cookie Company \nYou asked\, we listened.. 90s Night Round 2 is happening on July 22nd!\n  \nDJ Sprino\, Cousins Maine Lobster and The Crafted Cookie Company are helping us bring back the fun! Grab your best throwback threads and come to the taproom for a night of good music\, food & nostalgia inspired specials.\n  \n*Event will be outside\, weather permitting!
URL:https://visit-marlborough.com/event/90s-night-lost-shoe/
LOCATION:Lost Shoe Brewing & Roasting Co.\, 19 Weed Street\, Marlborough\, MA\, 01752\, United States
END:VEVENT
BEGIN:VEVENT
DTSTART;TZID=America/New_York:20230722T190000
DTEND;TZID=America/New_York:20230722T220000
DTSTAMP:20260421T172740
CREATED:20230705T181554Z
LAST-MODIFIED:20230705T181554Z
UID:212791-1690052400-1690063200@visit-marlborough.com
SUMMARY:Live Music @ Tackle Box
DESCRIPTION:Live Music with Bacchus!
URL:https://visit-marlborough.com/event/live-music-tackle-box-128/
LOCATION:Tackle Box Brewing Company\, 416 Boston Post Road East\, Marlborough\, MA\, 01752\, United States
END:VEVENT
BEGIN:VEVENT
DTSTART;TZID=America/New_York:20230725T190000
DTEND;TZID=America/New_York:20230725T210000
DTSTAMP:20260421T172740
CREATED:20230706T153736Z
LAST-MODIFIED:20230706T153736Z
UID:212866-1690311600-1690318800@visit-marlborough.com
SUMMARY:Geeks Who Drink Trivia @ Lost Shoe
DESCRIPTION:Trivia Night starting at 7 pm!
URL:https://visit-marlborough.com/event/geeks-who-drink-trivia-lost-shoe-28/
LOCATION:Lost Shoe Brewing & Roasting Co.\, 19 Weed Street\, Marlborough\, MA\, 01752\, United States
END:VEVENT
BEGIN:VEVENT
DTSTART;TZID=America/New_York:20230726T193000
DTEND;TZID=America/New_York:20230726T210000
DTSTAMP:20260421T172740
CREATED:20230705T180458Z
LAST-MODIFIED:20230705T180458Z
UID:212774-1690399800-1690405200@visit-marlborough.com
SUMMARY:Trivia @ Tackle Box Brewing
DESCRIPTION:Trivia Night!!
URL:https://visit-marlborough.com/event/trivia-tackle-box-brewing-57/
LOCATION:Tackle Box Brewing Company\, 416 Boston Post Road East\, Marlborough\, MA\, 01752\, United States
END:VEVENT
BEGIN:VEVENT
DTSTART;TZID=America/New_York:20230727T190000
DTEND;TZID=America/New_York:20230727T220000
DTSTAMP:20260421T172740
CREATED:20230705T183937Z
LAST-MODIFIED:20230705T183937Z
UID:212805-1690484400-1690495200@visit-marlborough.com
SUMMARY:Open Mic @ Tackle Box
DESCRIPTION:Open Mic Night!! Starting at 7 pm!
URL:https://visit-marlborough.com/event/open-mic-tackle-box-48/
LOCATION:Tackle Box Brewing Company\, 416 Boston Post Road East\, Marlborough\, MA\, 01752\, United States
END:VEVENT
BEGIN:VEVENT
DTSTART;TZID=America/New_York:20230728T190000
DTEND;TZID=America/New_York:20230728T220000
DTSTAMP:20260421T172740
CREATED:20230705T181711Z
LAST-MODIFIED:20230705T181711Z
UID:212793-1690570800-1690581600@visit-marlborough.com
SUMMARY:Live Music @ Tackle Box
DESCRIPTION:Live Music with Z Company!
URL:https://visit-marlborough.com/event/live-music-tackle-box-129/
LOCATION:Tackle Box Brewing Company\, 416 Boston Post Road East\, Marlborough\, MA\, 01752\, United States
END:VEVENT
BEGIN:VEVENT
DTSTART;TZID=America/New_York:20230729T110000
DTEND;TZID=America/New_York:20230729T120000
DTSTAMP:20260421T172740
CREATED:20230705T185531Z
LAST-MODIFIED:20230705T185531Z
UID:212809-1690628400-1690632000@visit-marlborough.com
SUMMARY:Yoga in the Brewery @ Tackle Box
DESCRIPTION:Join us for a 60-minute all-levels yoga class in the brewery\, followed by a refreshing craft beer on tap! (1 drink included w/ ticket!)\nYOGA + BEER: The best of both worlds!\nEnjoy your late Saturday morning with a 60-minute all-levels yoga class\, led by 200-Hr CYT Al Dewsnap to fun and uplifting music in the empty brewery! Class takes place from 11-12 and will be followed with a refreshing beer courtesy of Tackle Box Brewing Co. when the taproom opens at noon.\nTicket includes one drink ticket to be used for a pour in the taproom. Come with friends and hang around for a bit to enjoy your Saturday afternoon!\nPLEASE BRING YOUR OWN MAT!
URL:https://visit-marlborough.com/event/yoga-in-the-brewery-tackle-box-32/
LOCATION:Tackle Box Brewing Company\, 416 Boston Post Road East\, Marlborough\, MA\, 01752\, United States
END:VEVENT
BEGIN:VEVENT
DTSTART;TZID=America/New_York:20230729T140000
DTEND;TZID=America/New_York:20230729T153000
DTSTAMP:20260421T172740
CREATED:20230705T185924Z
LAST-MODIFIED:20230705T190114Z
UID:212811-1690639200-1690644600@visit-marlborough.com
SUMMARY:Sea Glass Craft @ Tackle Box
DESCRIPTION:This event is hosted at Tacklebox Brewing’s Marlborough taproom. Come enjoy a fun environment with good drinks. Ellie Perry\, a local artist will walk you through how to make beautiful crafts out of sea glass. Come unwind with us. \nYou’ll walk away with 2 sea glass canvases\, and you don’t need any pre-existing skills or experience. Tickets are refundable if you can’t make it – just let us know 24 hours before the event starts. \nThey’re great to stand up and show off\, or to make as a gift to give to someone – or as an excuse to have a few drinks with great people while making something beautiful. \nBuy your tickets before they sell out.
URL:https://visit-marlborough.com/event/sea-glass-craft-tackle-box-2/
LOCATION:Tackle Box Brewing Company\, 416 Boston Post Road East\, Marlborough\, MA\, 01752\, United States
END:VEVENT
BEGIN:VEVENT
DTSTART;TZID=America/New_York:20230729T190000
DTEND;TZID=America/New_York:20230729T220000
DTSTAMP:20260421T172740
CREATED:20230705T181757Z
LAST-MODIFIED:20230705T181757Z
UID:212795-1690657200-1690668000@visit-marlborough.com
SUMMARY:Live Music @ Tackle Box
DESCRIPTION:Live Music with SLACK!
URL:https://visit-marlborough.com/event/live-music-tackle-box-130/
LOCATION:Tackle Box Brewing Company\, 416 Boston Post Road East\, Marlborough\, MA\, 01752\, United States
END:VEVENT
END:VCALENDAR