BEGIN:VCALENDAR
VERSION:2.0
PRODID:-//Visit Marlborough - ECPv6.15.20//NONSGML v1.0//EN
CALSCALE:GREGORIAN
METHOD:PUBLISH
X-ORIGINAL-URL:https://visit-marlborough.com
X-WR-CALDESC:Events for Visit Marlborough
REFRESH-INTERVAL;VALUE=DURATION:PT1H
X-Robots-Tag:noindex
X-PUBLISHED-TTL:PT1H
BEGIN:VTIMEZONE
TZID:America/New_York
BEGIN:DAYLIGHT
TZOFFSETFROM:-0500
TZOFFSETTO:-0400
TZNAME:EDT
DTSTART:20220313T070000
END:DAYLIGHT
BEGIN:STANDARD
TZOFFSETFROM:-0400
TZOFFSETTO:-0500
TZNAME:EST
DTSTART:20221106T060000
END:STANDARD
BEGIN:DAYLIGHT
TZOFFSETFROM:-0500
TZOFFSETTO:-0400
TZNAME:EDT
DTSTART:20230312T070000
END:DAYLIGHT
BEGIN:STANDARD
TZOFFSETFROM:-0400
TZOFFSETTO:-0500
TZNAME:EST
DTSTART:20231105T060000
END:STANDARD
BEGIN:DAYLIGHT
TZOFFSETFROM:-0500
TZOFFSETTO:-0400
TZNAME:EDT
DTSTART:20240310T070000
END:DAYLIGHT
BEGIN:STANDARD
TZOFFSETFROM:-0400
TZOFFSETTO:-0500
TZNAME:EST
DTSTART:20241103T060000
END:STANDARD
END:VTIMEZONE
BEGIN:VEVENT
DTSTART;TZID=America/New_York:20230303T190000
DTEND;TZID=America/New_York:20230303T220000
DTSTAMP:20260422T013640
CREATED:20230302T172625Z
LAST-MODIFIED:20230302T172625Z
UID:212132-1677870000-1677880800@visit-marlborough.com
SUMMARY:Live Music @ Tackle Box
DESCRIPTION:Live Music with Frye St. Radio!
URL:https://visit-marlborough.com/event/live-music-tackle-box-97/
LOCATION:Tackle Box Brewing Company\, 416 Boston Post Road East\, Marlborough\, MA\, 01752\, United States
END:VEVENT
BEGIN:VEVENT
DTSTART;TZID=America/New_York:20230304T110000
DTEND;TZID=America/New_York:20230304T120000
DTSTAMP:20260422T013640
CREATED:20230302T190907Z
LAST-MODIFIED:20230302T190907Z
UID:212154-1677927600-1677931200@visit-marlborough.com
SUMMARY:Yoga in the Brewery @ Tackle Box
DESCRIPTION:Join us for a 60-minute all-levels yoga class in the brewery\, followed by a refreshing craft beer on tap! (1 drink included w/ ticket!)\nYOGA + BEER: The best of both worlds!\nEnjoy your late Saturday morning with a 60-minute all-levels yoga class\, led by 200-Hr CYT Al Dewsnap to fun and uplifting music in the empty brewery! Class takes place from 11-12 and will be followed with a refreshing beer courtesy of Tackle Box Brewing Co. when the taproom opens at noon.\nTicket includes one drink ticket to be used for a pour in the taproom. Come with friends and hang around for a bit to enjoy your Saturday afternoon!\nPLEASE BRING YOUR OWN MAT!
URL:https://visit-marlborough.com/event/yoga-in-the-brewery-tackle-box-25/
LOCATION:Tackle Box Brewing Company\, 416 Boston Post Road East\, Marlborough\, MA\, 01752\, United States
END:VEVENT
BEGIN:VEVENT
DTSTART;TZID=America/New_York:20230304T153000
DTEND;TZID=America/New_York:20230304T183000
DTSTAMP:20260422T013640
CREATED:20230302T172727Z
LAST-MODIFIED:20230302T172727Z
UID:212134-1677943800-1677954600@visit-marlborough.com
SUMMARY:Live Music @ Tackle Box
DESCRIPTION:Live Music with The Moscas!
URL:https://visit-marlborough.com/event/live-music-tackle-box-98/
LOCATION:Tackle Box Brewing Company\, 416 Boston Post Road East\, Marlborough\, MA\, 01752\, United States
END:VEVENT
BEGIN:VEVENT
DTSTART;TZID=America/New_York:20230304T180000
DTEND;TZID=America/New_York:20230304T210000
DTSTAMP:20260422T013640
CREATED:20230302T203418Z
LAST-MODIFIED:20230302T203418Z
UID:212206-1677952800-1677963600@visit-marlborough.com
SUMMARY:Live Music @ Flying Dreams Brewing Co.
DESCRIPTION:Live music with Lady Anemoia at the Flying Dreams Brewing Co!
URL:https://visit-marlborough.com/event/live-music-flying-dreams-brewing-co/
LOCATION:Flying Dreams Brewing Co.\, 277 Main Street\, Marlborough\, MA\, 01752\, United States
END:VEVENT
BEGIN:VEVENT
DTSTART;TZID=America/New_York:20230304T193000
DTEND;TZID=America/New_York:20230304T220000
DTSTAMP:20260422T013640
CREATED:20230302T174126Z
LAST-MODIFIED:20230302T174126Z
UID:212136-1677958200-1677967200@visit-marlborough.com
SUMMARY:Live Music @ Tackle Box
DESCRIPTION:Live Music with The Sofferman Quintet!
URL:https://visit-marlborough.com/event/live-music-tackle-box-99/
LOCATION:Tackle Box Brewing Company\, 416 Boston Post Road East\, Marlborough\, MA\, 01752\, United States
END:VEVENT
BEGIN:VEVENT
DTSTART;TZID=America/New_York:20230305T113000
DTEND;TZID=America/New_York:20230305T140000
DTSTAMP:20260422T013640
CREATED:20230302T191251Z
LAST-MODIFIED:20230302T191251Z
UID:212158-1678015800-1678024800@visit-marlborough.com
SUMMARY:Kegs & Eggs\, Sunday Brunch @ Tackle Box
DESCRIPTION:Enjoy Kegs & Eggs Sunday Brunch with Tackle Box Brewery!
URL:https://visit-marlborough.com/event/kegs-eggs-sunday-brunch-tackle-box-6/
LOCATION:Tackle Box Brewing Company\, 416 Boston Post Road East\, Marlborough\, MA\, 01752\, United States
END:VEVENT
BEGIN:VEVENT
DTSTART;TZID=America/New_York:20230305T113000
DTEND;TZID=America/New_York:20230305T143000
DTSTAMP:20260422T013640
CREATED:20230302T174538Z
LAST-MODIFIED:20230302T174538Z
UID:212138-1678015800-1678026600@visit-marlborough.com
SUMMARY:Live Music @ Tackle Box
DESCRIPTION:Live Music with Andy Robbins!
URL:https://visit-marlborough.com/event/live-music-tackle-box-100/
LOCATION:Tackle Box Brewing Company\, 416 Boston Post Road East\, Marlborough\, MA\, 01752\, United States
END:VEVENT
BEGIN:VEVENT
DTSTART;TZID=America/New_York:20230305T183000
DTEND;TZID=America/New_York:20230305T203000
DTSTAMP:20260422T013640
CREATED:20230302T174640Z
LAST-MODIFIED:20230302T174640Z
UID:212140-1678041000-1678048200@visit-marlborough.com
SUMMARY:Live Music @ Tackle Box
DESCRIPTION:Live Music with Brewhouse Band!
URL:https://visit-marlborough.com/event/live-music-tackle-box-101/
LOCATION:Tackle Box Brewing Company\, 416 Boston Post Road East\, Marlborough\, MA\, 01752\, United States
END:VEVENT
BEGIN:VEVENT
DTSTART;TZID=America/New_York:20230307T190000
DTEND;TZID=America/New_York:20230307T210000
DTSTAMP:20260422T013640
CREATED:20230303T144404Z
LAST-MODIFIED:20230303T144404Z
UID:212275-1678215600-1678222800@visit-marlborough.com
SUMMARY:Geeks Who Drink Trivia @ Lost Shoe
DESCRIPTION:Trivia Night starting at 7 pm!
URL:https://visit-marlborough.com/event/geeks-who-drink-trivia-lost-shoe-21/
LOCATION:Lost Shoe Brewing & Roasting Co.\, 19 Weed Street\, Marlborough\, MA\, 01752\, United States
END:VEVENT
BEGIN:VEVENT
DTSTART;TZID=America/New_York:20230307T190000
DTEND;TZID=America/New_York:20230307T220000
DTSTAMP:20260422T013640
CREATED:20230302T191433Z
LAST-MODIFIED:20230302T191433Z
UID:212160-1678215600-1678226400@visit-marlborough.com
SUMMARY:Karaoke Night @ Tackle Box
DESCRIPTION:Karaoke Night!
URL:https://visit-marlborough.com/event/karaoke-night-tackle-box-21/
LOCATION:Tackle Box Brewing Company\, 416 Boston Post Road East\, Marlborough\, MA\, 01752\, United States
END:VEVENT
BEGIN:VEVENT
DTSTART;TZID=America/New_York:20230308T193000
DTEND;TZID=America/New_York:20230308T210000
DTSTAMP:20260422T013640
CREATED:20230302T192040Z
LAST-MODIFIED:20230302T192040Z
UID:212168-1678303800-1678309200@visit-marlborough.com
SUMMARY:Trivia @ Tackle Box Brewing
DESCRIPTION:Trivia Night!!
URL:https://visit-marlborough.com/event/trivia-tackle-box-brewing-42/
LOCATION:Tackle Box Brewing Company\, 416 Boston Post Road East\, Marlborough\, MA\, 01752\, United States
END:VEVENT
BEGIN:VEVENT
DTSTART;TZID=America/New_York:20230309T190000
DTEND;TZID=America/New_York:20230309T220000
DTSTAMP:20260422T013640
CREATED:20230302T192719Z
LAST-MODIFIED:20230302T192719Z
UID:212176-1678388400-1678399200@visit-marlborough.com
SUMMARY:Open Mic @ Tackle Box
DESCRIPTION:Open Mic Night!! Starting at 7 pm!
URL:https://visit-marlborough.com/event/open-mic-tackle-box-34/
LOCATION:Tackle Box Brewing Company\, 416 Boston Post Road East\, Marlborough\, MA\, 01752\, United States
END:VEVENT
BEGIN:VEVENT
DTSTART;TZID=America/New_York:20230310T210000
DTEND;TZID=America/New_York:20230310T230000
DTSTAMP:20260422T013640
CREATED:20230302T202510Z
LAST-MODIFIED:20230302T202510Z
UID:212199-1678482000-1678489200@visit-marlborough.com
SUMMARY:Laughing Lure Comedy Night @ Tackle Box Brewing
DESCRIPTION:Laughing Lure Comedy night!
URL:https://visit-marlborough.com/event/laughing-lure-comedy-night-tackle-box-brewing-13/
LOCATION:Tackle Box Brewing Company\, 416 Boston Post Road East\, Marlborough\, MA\, 01752\, United States
END:VEVENT
BEGIN:VEVENT
DTSTART;TZID=America/New_York:20230311T190000
DTEND;TZID=America/New_York:20230311T220000
DTSTAMP:20260422T013640
CREATED:20230302T174816Z
LAST-MODIFIED:20230302T174816Z
UID:212142-1678561200-1678572000@visit-marlborough.com
SUMMARY:Live Music @ Tackle Box
DESCRIPTION:Live Music with Messy Excuses!
URL:https://visit-marlborough.com/event/live-music-tackle-box-102/
LOCATION:Tackle Box Brewing Company\, 416 Boston Post Road East\, Marlborough\, MA\, 01752\, United States
END:VEVENT
BEGIN:VEVENT
DTSTART;TZID=America/New_York:20230314T190000
DTEND;TZID=America/New_York:20230314T210000
DTSTAMP:20260422T013640
CREATED:20230303T144435Z
LAST-MODIFIED:20230303T144435Z
UID:212277-1678820400-1678827600@visit-marlborough.com
SUMMARY:Geeks Who Drink Trivia @ Lost Shoe
DESCRIPTION:Trivia Night starting at 7 pm!
URL:https://visit-marlborough.com/event/geeks-who-drink-trivia-lost-shoe-22/
LOCATION:Lost Shoe Brewing & Roasting Co.\, 19 Weed Street\, Marlborough\, MA\, 01752\, United States
END:VEVENT
BEGIN:VEVENT
DTSTART;TZID=America/New_York:20230314T190000
DTEND;TZID=America/New_York:20230314T220000
DTSTAMP:20260422T013640
CREATED:20230302T191531Z
LAST-MODIFIED:20230302T191531Z
UID:212162-1678820400-1678831200@visit-marlborough.com
SUMMARY:Karaoke Night @ Tackle Box
DESCRIPTION:Karaoke Night!
URL:https://visit-marlborough.com/event/karaoke-night-tackle-box-22/
LOCATION:Tackle Box Brewing Company\, 416 Boston Post Road East\, Marlborough\, MA\, 01752\, United States
END:VEVENT
BEGIN:VEVENT
DTSTART;TZID=America/New_York:20230315T180000
DTEND;TZID=America/New_York:20230315T210000
DTSTAMP:20260422T013640
CREATED:20230303T145204Z
LAST-MODIFIED:20230303T145204Z
UID:212283-1678903200-1678914000@visit-marlborough.com
SUMMARY:Paint & Sip @ Lost Shoe Brewing
DESCRIPTION:Custom Pet Portrait Paint & Sip
URL:https://visit-marlborough.com/event/paint-sip-lost-shoe-brewing/
LOCATION:Lost Shoe Brewing & Roasting Co.\, 19 Weed Street\, Marlborough\, MA\, 01752\, United States
END:VEVENT
BEGIN:VEVENT
DTSTART;TZID=America/New_York:20230315T183000
DTEND;TZID=America/New_York:20230315T200000
DTSTAMP:20260422T013640
CREATED:20230302T194341Z
LAST-MODIFIED:20230302T194341Z
UID:212186-1678905000-1678910400@visit-marlborough.com
SUMMARY:Sip & Script @ Tackle Box Brewing Company
DESCRIPTION:St. Patrick’s Day Calligraphy for Beginners 
URL:https://visit-marlborough.com/event/sip-script-tackle-box-brewing-company-4/
LOCATION:Tackle Box Brewing Company\, 416 Boston Post Road East\, Marlborough\, MA\, 01752\, United States
END:VEVENT
BEGIN:VEVENT
DTSTART;TZID=America/New_York:20230315T193000
DTEND;TZID=America/New_York:20230315T210000
DTSTAMP:20260422T013641
CREATED:20230302T192114Z
LAST-MODIFIED:20230302T192114Z
UID:212170-1678908600-1678914000@visit-marlborough.com
SUMMARY:Trivia @ Tackle Box Brewing
DESCRIPTION:Trivia Night!!
URL:https://visit-marlborough.com/event/trivia-tackle-box-brewing-43/
LOCATION:Tackle Box Brewing Company\, 416 Boston Post Road East\, Marlborough\, MA\, 01752\, United States
END:VEVENT
BEGIN:VEVENT
DTSTART;TZID=America/New_York:20230316T190000
DTEND;TZID=America/New_York:20230316T220000
DTSTAMP:20260422T013641
CREATED:20230302T192844Z
LAST-MODIFIED:20230302T192844Z
UID:212178-1678993200-1679004000@visit-marlborough.com
SUMMARY:Open Mic @ Tackle Box
DESCRIPTION:Open Mic Night!! Starting at 7 pm!
URL:https://visit-marlborough.com/event/open-mic-tackle-box-35/
LOCATION:Tackle Box Brewing Company\, 416 Boston Post Road East\, Marlborough\, MA\, 01752\, United States
END:VEVENT
BEGIN:VEVENT
DTSTART;TZID=America/New_York:20230317T110000
DTEND;TZID=America/New_York:20230317T220000
DTSTAMP:20260422T013641
CREATED:20230303T145902Z
LAST-MODIFIED:20230303T145902Z
UID:212285-1679050800-1679090400@visit-marlborough.com
SUMMARY:Street Party @ Lost Shoe
DESCRIPTION:Lost Shoe is throwing another Saint Patrick’s Day Street Party! Live Irish music by Mike Gorgone from 6-9PM and Jenny’s Place will be serving up holiday-inspired sandwiches from 4-9PM! Event will be outside weather permitting\, feel free to bring a chair. No reservations – first come\, first serve!
URL:https://visit-marlborough.com/event/street-party-lost-shoe/
LOCATION:Lost Shoe Brewing & Roasting Co.\, 19 Weed Street\, Marlborough\, MA\, 01752\, United States
END:VEVENT
BEGIN:VEVENT
DTSTART;TZID=America/New_York:20230317T190000
DTEND;TZID=America/New_York:20230317T220000
DTSTAMP:20260422T013641
CREATED:20230302T175040Z
LAST-MODIFIED:20230302T175040Z
UID:212144-1679079600-1679090400@visit-marlborough.com
SUMMARY:Live Music @ Tackle Box
DESCRIPTION:Live Music with Whiskey Cherry Bomb!
URL:https://visit-marlborough.com/event/live-music-tackle-box-103/
LOCATION:Tackle Box Brewing Company\, 416 Boston Post Road East\, Marlborough\, MA\, 01752\, United States
END:VEVENT
BEGIN:VEVENT
DTSTART;TZID=America/New_York:20230318T110000
DTEND;TZID=America/New_York:20230318T120000
DTSTAMP:20260422T013641
CREATED:20230302T191049Z
LAST-MODIFIED:20230302T191049Z
UID:212156-1679137200-1679140800@visit-marlborough.com
SUMMARY:Yoga in the Brewery @ Tackle Box
DESCRIPTION:Join us for a 60-minute all-levels yoga class in the brewery\, followed by a refreshing craft beer on tap! (1 drink included w/ ticket!)\nYOGA + BEER: The best of both worlds!\nEnjoy your late Saturday morning with a 60-minute all-levels yoga class\, led by 200-Hr CYT Al Dewsnap to fun and uplifting music in the empty brewery! Class takes place from 11-12 and will be followed with a refreshing beer courtesy of Tackle Box Brewing Co. when the taproom opens at noon.\nTicket includes one drink ticket to be used for a pour in the taproom. Come with friends and hang around for a bit to enjoy your Saturday afternoon!\nPLEASE BRING YOUR OWN MAT!
URL:https://visit-marlborough.com/event/yoga-in-the-brewery-tackle-box-26/
LOCATION:Tackle Box Brewing Company\, 416 Boston Post Road East\, Marlborough\, MA\, 01752\, United States
END:VEVENT
BEGIN:VEVENT
DTSTART;TZID=America/New_York:20230318T190000
DTEND;TZID=America/New_York:20230318T220000
DTSTAMP:20260422T013641
CREATED:20230302T175208Z
LAST-MODIFIED:20230302T175208Z
UID:212146-1679166000-1679176800@visit-marlborough.com
SUMMARY:Live Music @ Tackle Box
DESCRIPTION:Live Music with Zen Music Men!
URL:https://visit-marlborough.com/event/live-music-tackle-box-104/
LOCATION:Tackle Box Brewing Company\, 416 Boston Post Road East\, Marlborough\, MA\, 01752\, United States
END:VEVENT
BEGIN:VEVENT
DTSTART;TZID=America/New_York:20230321T190000
DTEND;TZID=America/New_York:20230321T210000
DTSTAMP:20260422T013641
CREATED:20230303T144506Z
LAST-MODIFIED:20230303T144506Z
UID:212279-1679425200-1679432400@visit-marlborough.com
SUMMARY:Geeks Who Drink Trivia @ Lost Shoe
DESCRIPTION:Trivia Night starting at 7 pm!
URL:https://visit-marlborough.com/event/geeks-who-drink-trivia-lost-shoe-23/
LOCATION:Lost Shoe Brewing & Roasting Co.\, 19 Weed Street\, Marlborough\, MA\, 01752\, United States
END:VEVENT
BEGIN:VEVENT
DTSTART;TZID=America/New_York:20230321T190000
DTEND;TZID=America/New_York:20230321T220000
DTSTAMP:20260422T013641
CREATED:20230302T191836Z
LAST-MODIFIED:20230302T191836Z
UID:212164-1679425200-1679436000@visit-marlborough.com
SUMMARY:Karaoke Night @ Tackle Box
DESCRIPTION:Karaoke Night!
URL:https://visit-marlborough.com/event/karaoke-night-tackle-box-23/
LOCATION:Tackle Box Brewing Company\, 416 Boston Post Road East\, Marlborough\, MA\, 01752\, United States
END:VEVENT
BEGIN:VEVENT
DTSTART;TZID=America/New_York:20230322T193000
DTEND;TZID=America/New_York:20230322T210000
DTSTAMP:20260422T013641
CREATED:20230302T192512Z
LAST-MODIFIED:20230302T192512Z
UID:212172-1679513400-1679518800@visit-marlborough.com
SUMMARY:Trivia @ Tackle Box Brewing
DESCRIPTION:Trivia Night!!
URL:https://visit-marlborough.com/event/trivia-tackle-box-brewing-44/
LOCATION:Tackle Box Brewing Company\, 416 Boston Post Road East\, Marlborough\, MA\, 01752\, United States
END:VEVENT
BEGIN:VEVENT
DTSTART;TZID=America/New_York:20230323T190000
DTEND;TZID=America/New_York:20230323T220000
DTSTAMP:20260422T013641
CREATED:20230302T192935Z
LAST-MODIFIED:20230302T192935Z
UID:212180-1679598000-1679608800@visit-marlborough.com
SUMMARY:Open Mic @ Tackle Box
DESCRIPTION:Open Mic Night!! Starting at 7 pm!
URL:https://visit-marlborough.com/event/open-mic-tackle-box-36/
LOCATION:Tackle Box Brewing Company\, 416 Boston Post Road East\, Marlborough\, MA\, 01752\, United States
END:VEVENT
BEGIN:VEVENT
DTSTART;TZID=America/New_York:20230324T190000
DTEND;TZID=America/New_York:20230324T220000
DTSTAMP:20260422T013641
CREATED:20230302T190535Z
LAST-MODIFIED:20230302T190535Z
UID:212148-1679684400-1679695200@visit-marlborough.com
SUMMARY:Live Music @ Tackle Box
DESCRIPTION:Live Music with The Beemers!
URL:https://visit-marlborough.com/event/live-music-tackle-box-105/
LOCATION:Tackle Box Brewing Company\, 416 Boston Post Road East\, Marlborough\, MA\, 01752\, United States
END:VEVENT
BEGIN:VEVENT
DTSTART;TZID=America/New_York:20230325T190000
DTEND;TZID=America/New_York:20230325T220000
DTSTAMP:20260422T013641
CREATED:20230302T190650Z
LAST-MODIFIED:20230302T190650Z
UID:212150-1679770800-1679781600@visit-marlborough.com
SUMMARY:Live Music @ Tackle Box
DESCRIPTION:Live Music with Crash and Burn!
URL:https://visit-marlborough.com/event/live-music-tackle-box-106/
LOCATION:Tackle Box Brewing Company\, 416 Boston Post Road East\, Marlborough\, MA\, 01752\, United States
END:VEVENT
END:VCALENDAR