BEGIN:VCALENDAR
VERSION:2.0
PRODID:-//Visit Marlborough - ECPv6.15.20//NONSGML v1.0//EN
CALSCALE:GREGORIAN
METHOD:PUBLISH
X-WR-CALNAME:Visit Marlborough
X-ORIGINAL-URL:https://visit-marlborough.com
X-WR-CALDESC:Events for Visit Marlborough
REFRESH-INTERVAL;VALUE=DURATION:PT1H
X-Robots-Tag:noindex
X-PUBLISHED-TTL:PT1H
BEGIN:VTIMEZONE
TZID:America/New_York
BEGIN:DAYLIGHT
TZOFFSETFROM:-0500
TZOFFSETTO:-0400
TZNAME:EDT
DTSTART:20220313T070000
END:DAYLIGHT
BEGIN:STANDARD
TZOFFSETFROM:-0400
TZOFFSETTO:-0500
TZNAME:EST
DTSTART:20221106T060000
END:STANDARD
BEGIN:DAYLIGHT
TZOFFSETFROM:-0500
TZOFFSETTO:-0400
TZNAME:EDT
DTSTART:20230312T070000
END:DAYLIGHT
BEGIN:STANDARD
TZOFFSETFROM:-0400
TZOFFSETTO:-0500
TZNAME:EST
DTSTART:20231105T060000
END:STANDARD
BEGIN:DAYLIGHT
TZOFFSETFROM:-0500
TZOFFSETTO:-0400
TZNAME:EDT
DTSTART:20240310T070000
END:DAYLIGHT
BEGIN:STANDARD
TZOFFSETFROM:-0400
TZOFFSETTO:-0500
TZNAME:EST
DTSTART:20241103T060000
END:STANDARD
END:VTIMEZONE
BEGIN:VEVENT
DTSTART;TZID=America/New_York:20230105T180000
DTEND;TZID=America/New_York:20230105T200000
DTSTAMP:20260422T045536
CREATED:20230104T182531Z
LAST-MODIFIED:20230104T182531Z
UID:211845-1672941600-1672948800@visit-marlborough.com
SUMMARY:Book Club @ Tackle Box
DESCRIPTION:Book Club night!
URL:https://visit-marlborough.com/event/book-club-tackle-box-9/
LOCATION:Tackle Box Brewing Company\, 416 Boston Post Road East\, Marlborough\, MA\, 01752\, United States
END:VEVENT
BEGIN:VEVENT
DTSTART;TZID=America/New_York:20230105T200000
DTEND;TZID=America/New_York:20230105T220000
DTSTAMP:20260422T045536
CREATED:20230104T182633Z
LAST-MODIFIED:20230104T182633Z
UID:211847-1672948800-1672956000@visit-marlborough.com
SUMMARY:Karaoke Night @ Tackle Box
DESCRIPTION:Karaoke Night!
URL:https://visit-marlborough.com/event/karaoke-night-tackle-box-15/
LOCATION:Tackle Box Brewing Company\, 416 Boston Post Road East\, Marlborough\, MA\, 01752\, United States
END:VEVENT
BEGIN:VEVENT
DTSTART;TZID=America/New_York:20230106T190000
DTEND;TZID=America/New_York:20230106T220000
DTSTAMP:20260422T045536
CREATED:20230104T182818Z
LAST-MODIFIED:20230104T182818Z
UID:211849-1673031600-1673042400@visit-marlborough.com
SUMMARY:Live Music @ Tackle Box
DESCRIPTION:Live Music with Jae Mannion!
URL:https://visit-marlborough.com/event/live-music-tackle-box-82/
LOCATION:Tackle Box Brewing Company\, 416 Boston Post Road East\, Marlborough\, MA\, 01752\, United States
END:VEVENT
BEGIN:VEVENT
DTSTART;TZID=America/New_York:20230107T190000
DTEND;TZID=America/New_York:20230107T220000
DTSTAMP:20260422T045536
CREATED:20230104T182927Z
LAST-MODIFIED:20230104T182927Z
UID:211851-1673118000-1673128800@visit-marlborough.com
SUMMARY:Live Music @ Tackle Box
DESCRIPTION:Live Music with Element 119!
URL:https://visit-marlborough.com/event/live-music-tackle-box-83/
LOCATION:Tackle Box Brewing Company\, 416 Boston Post Road East\, Marlborough\, MA\, 01752\, United States
END:VEVENT
BEGIN:VEVENT
DTSTART;TZID=America/New_York:20230110T190000
DTEND;TZID=America/New_York:20230110T210000
DTSTAMP:20260422T045536
CREATED:20230104T212136Z
LAST-MODIFIED:20230104T212136Z
UID:211863-1673377200-1673384400@visit-marlborough.com
SUMMARY:Music Bingo @ Tackle Box
DESCRIPTION:Every Tuesday at 7pm! Play for free! 4 Rounds! Prizes for Winners!
URL:https://visit-marlborough.com/event/music-bingo-tackle-box-9/
LOCATION:Tackle Box Brewing Company\, 416 Boston Post Road East\, Marlborough\, MA\, 01752\, United States
END:VEVENT
BEGIN:VEVENT
DTSTART;TZID=America/New_York:20230110T190000
DTEND;TZID=America/New_York:20230110T210000
DTSTAMP:20260422T045536
CREATED:20230106T210933Z
LAST-MODIFIED:20230106T210933Z
UID:211945-1673377200-1673384400@visit-marlborough.com
SUMMARY:Geeks Who Drink Trivia @ Lost Shoe
DESCRIPTION:Trivia Night starting at 7 pm!
URL:https://visit-marlborough.com/event/geeks-who-drink-trivia-lost-shoe-8/
LOCATION:Lost Shoe Brewing & Roasting Co.\, 19 Weed Street\, Marlborough\, MA\, 01752\, United States
END:VEVENT
BEGIN:VEVENT
DTSTART;TZID=America/New_York:20230112T190000
DTEND;TZID=America/New_York:20230112T220000
DTSTAMP:20260422T045536
CREATED:20230104T213510Z
LAST-MODIFIED:20230104T213510Z
UID:211871-1673550000-1673560800@visit-marlborough.com
SUMMARY:Open Mic @ Tackle Box
DESCRIPTION:Open Mic Night!! Starting at 7 pm!
URL:https://visit-marlborough.com/event/open-mic-tackle-box-28/
LOCATION:Tackle Box Brewing Company\, 416 Boston Post Road East\, Marlborough\, MA\, 01752\, United States
END:VEVENT
BEGIN:VEVENT
DTSTART;TZID=America/New_York:20230114T190000
DTEND;TZID=America/New_York:20230114T220000
DTSTAMP:20260422T045536
CREATED:20230104T183031Z
LAST-MODIFIED:20230104T183031Z
UID:211853-1673722800-1673733600@visit-marlborough.com
SUMMARY:Live Music @ Tackle Box
DESCRIPTION:Live Music with Til Dawn!
URL:https://visit-marlborough.com/event/live-music-tackle-box-84/
LOCATION:Tackle Box Brewing Company\, 416 Boston Post Road East\, Marlborough\, MA\, 01752\, United States
END:VEVENT
BEGIN:VEVENT
DTSTART;TZID=America/New_York:20230117T190000
DTEND;TZID=America/New_York:20230117T210000
DTSTAMP:20260422T045536
CREATED:20230104T212213Z
LAST-MODIFIED:20230104T212213Z
UID:211865-1673982000-1673989200@visit-marlborough.com
SUMMARY:Music Bingo @ Tackle Box
DESCRIPTION:Every Tuesday at 7pm! Play for free! 4 Rounds! Prizes for Winners!
URL:https://visit-marlborough.com/event/music-bingo-tackle-box-10/
LOCATION:Tackle Box Brewing Company\, 416 Boston Post Road East\, Marlborough\, MA\, 01752\, United States
END:VEVENT
BEGIN:VEVENT
DTSTART;TZID=America/New_York:20230117T190000
DTEND;TZID=America/New_York:20230117T210000
DTSTAMP:20260422T045536
CREATED:20230106T211027Z
LAST-MODIFIED:20230106T211027Z
UID:211947-1673982000-1673989200@visit-marlborough.com
SUMMARY:Geeks Who Drink Trivia @ Lost Shoe
DESCRIPTION:Trivia Night starting at 7 pm!
URL:https://visit-marlborough.com/event/geeks-who-drink-trivia-lost-shoe-9/
LOCATION:Lost Shoe Brewing & Roasting Co.\, 19 Weed Street\, Marlborough\, MA\, 01752\, United States
END:VEVENT
BEGIN:VEVENT
DTSTART;TZID=America/New_York:20230119T190000
DTEND;TZID=America/New_York:20230119T220000
DTSTAMP:20260422T045536
CREATED:20230104T213600Z
LAST-MODIFIED:20230104T213600Z
UID:211873-1674154800-1674165600@visit-marlborough.com
SUMMARY:Open Mic @ Tackle Box
DESCRIPTION:Open Mic Night!! Starting at 7 pm!
URL:https://visit-marlborough.com/event/open-mic-tackle-box-29/
LOCATION:Tackle Box Brewing Company\, 416 Boston Post Road East\, Marlborough\, MA\, 01752\, United States
END:VEVENT
BEGIN:VEVENT
DTSTART;TZID=America/New_York:20230120T190000
DTEND;TZID=America/New_York:20230120T220000
DTSTAMP:20260422T045536
CREATED:20230104T183130Z
LAST-MODIFIED:20230104T183130Z
UID:211855-1674241200-1674252000@visit-marlborough.com
SUMMARY:Live Music @ Tackle Box
DESCRIPTION:Live Music with Quincy Lord!
URL:https://visit-marlborough.com/event/live-music-tackle-box-85/
LOCATION:Tackle Box Brewing Company\, 416 Boston Post Road East\, Marlborough\, MA\, 01752\, United States
END:VEVENT
BEGIN:VEVENT
DTSTART;TZID=America/New_York:20230121T110000
DTEND;TZID=America/New_York:20230121T120000
DTSTAMP:20260422T045536
CREATED:20230104T213913Z
LAST-MODIFIED:20230104T213913Z
UID:211879-1674298800-1674302400@visit-marlborough.com
SUMMARY:Yoga in the Brewery @ Tackle Box
DESCRIPTION:Join us for a 60-minute all-levels yoga class in the brewery\, followed by a refreshing craft beer on tap! (1 drink included w/ ticket!)\nYOGA + BEER: The best of both worlds!\nEnjoy your late Saturday morning with a 60-minute all-levels yoga class\, led by 200-Hr CYT Al Dewsnap to fun and uplifting music in the empty brewery! Class takes place from 11-12 and will be followed with a refreshing beer courtesy of Tackle Box Brewing Co. when the taproom opens at noon.\nTicket includes one drink ticket to be used for a pour in the taproom. Come with friends and hang around for a bit to enjoy your Saturday afternoon!\nPLEASE BRING YOUR OWN MAT!
URL:https://visit-marlborough.com/event/yoga-in-the-brewery-tackle-box-22/
LOCATION:Tackle Box Brewing Company\, 416 Boston Post Road East\, Marlborough\, MA\, 01752\, United States
END:VEVENT
BEGIN:VEVENT
DTSTART;TZID=America/New_York:20230121T170000
DTEND;TZID=America/New_York:20230121T220000
DTSTAMP:20260422T045536
CREATED:20230106T154646Z
LAST-MODIFIED:20230106T154646Z
UID:211914-1674320400-1674338400@visit-marlborough.com
SUMMARY:90s Night at Lost Shoe
DESCRIPTION:We will have throwback tunes spun by DJ Sprino\, food from Raina’s Plate and nostalgia inspired specials. Hope to see you there!
URL:https://visit-marlborough.com/event/90s-night-at-lost-shoe/
LOCATION:Lost Shoe Brewing & Roasting Co.\, 19 Weed Street\, Marlborough\, MA\, 01752\, United States
END:VEVENT
BEGIN:VEVENT
DTSTART;TZID=America/New_York:20230121T190000
DTEND;TZID=America/New_York:20230121T220000
DTSTAMP:20260422T045536
CREATED:20230104T183218Z
LAST-MODIFIED:20230104T183218Z
UID:211857-1674327600-1674338400@visit-marlborough.com
SUMMARY:Live Music @ Tackle Box
DESCRIPTION:Live Music with Sonic Union!
URL:https://visit-marlborough.com/event/live-music-tackle-box-86/
LOCATION:Tackle Box Brewing Company\, 416 Boston Post Road East\, Marlborough\, MA\, 01752\, United States
END:VEVENT
BEGIN:VEVENT
DTSTART;TZID=America/New_York:20230124T190000
DTEND;TZID=America/New_York:20230124T210000
DTSTAMP:20260422T045536
CREATED:20230104T212254Z
LAST-MODIFIED:20230104T212254Z
UID:211867-1674586800-1674594000@visit-marlborough.com
SUMMARY:Music Bingo @ Tackle Box
DESCRIPTION:Every Tuesday at 7pm! Play for free! 4 Rounds! Prizes for Winners!
URL:https://visit-marlborough.com/event/music-bingo-tackle-box-11/
LOCATION:Tackle Box Brewing Company\, 416 Boston Post Road East\, Marlborough\, MA\, 01752\, United States
END:VEVENT
BEGIN:VEVENT
DTSTART;TZID=America/New_York:20230124T190000
DTEND;TZID=America/New_York:20230124T210000
DTSTAMP:20260422T045536
CREATED:20230106T211102Z
LAST-MODIFIED:20230106T211102Z
UID:211949-1674586800-1674594000@visit-marlborough.com
SUMMARY:Geeks Who Drink Trivia @ Lost Shoe
DESCRIPTION:Trivia Night starting at 7 pm!
URL:https://visit-marlborough.com/event/geeks-who-drink-trivia-lost-shoe-10/
LOCATION:Lost Shoe Brewing & Roasting Co.\, 19 Weed Street\, Marlborough\, MA\, 01752\, United States
END:VEVENT
BEGIN:VEVENT
DTSTART;TZID=America/New_York:20230126T190000
DTEND;TZID=America/New_York:20230126T220000
DTSTAMP:20260422T045536
CREATED:20230104T213633Z
LAST-MODIFIED:20230104T213633Z
UID:211875-1674759600-1674770400@visit-marlborough.com
SUMMARY:Open Mic @ Tackle Box
DESCRIPTION:Open Mic Night!! Starting at 7 pm!
URL:https://visit-marlborough.com/event/open-mic-tackle-box-30/
LOCATION:Tackle Box Brewing Company\, 416 Boston Post Road East\, Marlborough\, MA\, 01752\, United States
END:VEVENT
BEGIN:VEVENT
DTSTART;TZID=America/New_York:20230127T190000
DTEND;TZID=America/New_York:20230127T220000
DTSTAMP:20260422T045536
CREATED:20230104T183323Z
LAST-MODIFIED:20230104T183323Z
UID:211859-1674846000-1674856800@visit-marlborough.com
SUMMARY:Live Music @ Tackle Box
DESCRIPTION:Live Music with Paul Janowski!
URL:https://visit-marlborough.com/event/live-music-tackle-box-87/
LOCATION:Tackle Box Brewing Company\, 416 Boston Post Road East\, Marlborough\, MA\, 01752\, United States
END:VEVENT
BEGIN:VEVENT
DTSTART;TZID=America/New_York:20230128T190000
DTEND;TZID=America/New_York:20230128T220000
DTSTAMP:20260422T045536
CREATED:20230104T183414Z
LAST-MODIFIED:20230104T183414Z
UID:211861-1674932400-1674943200@visit-marlborough.com
SUMMARY:Live Music @ Tackle Box
DESCRIPTION:Live Music with Settle Down Easy!
URL:https://visit-marlborough.com/event/live-music-tackle-box-88/
LOCATION:Tackle Box Brewing Company\, 416 Boston Post Road East\, Marlborough\, MA\, 01752\, United States
END:VEVENT
BEGIN:VEVENT
DTSTART;TZID=America/New_York:20230131T190000
DTEND;TZID=America/New_York:20230131T210000
DTSTAMP:20260422T045536
CREATED:20230104T212328Z
LAST-MODIFIED:20230104T212328Z
UID:211869-1675191600-1675198800@visit-marlborough.com
SUMMARY:Music Bingo @ Tackle Box
DESCRIPTION:Every Tuesday at 7pm! Play for free! 4 Rounds! Prizes for Winners!
URL:https://visit-marlborough.com/event/music-bingo-tackle-box-12/
LOCATION:Tackle Box Brewing Company\, 416 Boston Post Road East\, Marlborough\, MA\, 01752\, United States
END:VEVENT
BEGIN:VEVENT
DTSTART;TZID=America/New_York:20230131T190000
DTEND;TZID=America/New_York:20230131T210000
DTSTAMP:20260422T045536
CREATED:20230106T211143Z
LAST-MODIFIED:20230106T211143Z
UID:211951-1675191600-1675198800@visit-marlborough.com
SUMMARY:Geeks Who Drink Trivia @ Lost Shoe
DESCRIPTION:Trivia Night starting at 7 pm!
URL:https://visit-marlborough.com/event/geeks-who-drink-trivia-lost-shoe-16/
LOCATION:Lost Shoe Brewing & Roasting Co.\, 19 Weed Street\, Marlborough\, MA\, 01752\, United States
END:VEVENT
END:VCALENDAR