BEGIN:VCALENDAR
VERSION:2.0
PRODID:-//Visit Marlborough - ECPv6.15.20//NONSGML v1.0//EN
CALSCALE:GREGORIAN
METHOD:PUBLISH
X-WR-CALNAME:Visit Marlborough
X-ORIGINAL-URL:https://visit-marlborough.com
X-WR-CALDESC:Events for Visit Marlborough
REFRESH-INTERVAL;VALUE=DURATION:PT1H
X-Robots-Tag:noindex
X-PUBLISHED-TTL:PT1H
BEGIN:VTIMEZONE
TZID:America/New_York
BEGIN:DAYLIGHT
TZOFFSETFROM:-0500
TZOFFSETTO:-0400
TZNAME:EDT
DTSTART:20210314T070000
END:DAYLIGHT
BEGIN:STANDARD
TZOFFSETFROM:-0400
TZOFFSETTO:-0500
TZNAME:EST
DTSTART:20211107T060000
END:STANDARD
BEGIN:DAYLIGHT
TZOFFSETFROM:-0500
TZOFFSETTO:-0400
TZNAME:EDT
DTSTART:20220313T070000
END:DAYLIGHT
BEGIN:STANDARD
TZOFFSETFROM:-0400
TZOFFSETTO:-0500
TZNAME:EST
DTSTART:20221106T060000
END:STANDARD
BEGIN:DAYLIGHT
TZOFFSETFROM:-0500
TZOFFSETTO:-0400
TZNAME:EDT
DTSTART:20230312T070000
END:DAYLIGHT
BEGIN:STANDARD
TZOFFSETFROM:-0400
TZOFFSETTO:-0500
TZNAME:EST
DTSTART:20231105T060000
END:STANDARD
END:VTIMEZONE
BEGIN:VEVENT
DTSTART;TZID=America/New_York:20221001T110000
DTEND;TZID=America/New_York:20221001T120000
DTSTAMP:20260424T043320
CREATED:20220923T144820Z
LAST-MODIFIED:20220923T144820Z
UID:209143-1664622000-1664625600@visit-marlborough.com
SUMMARY:Yoga in the Brewery @ Tackle Box
DESCRIPTION:Join us for a 60-minute all-levels yoga class in the brewery\, followed by a refreshing craft beer on tap! (1 drink included w/ ticket!)\nYOGA + BEER: The best of both worlds!\nEnjoy your late Saturday morning with a 60-minute all-levels yoga class\, led by 200-Hr CYT Al Dewsnap to fun and uplifting music in the empty brewery! Class takes place from 11-12 and will be followed with a refreshing beer courtesy of Tackle Box Brewing Co. when the taproom opens at noon.\nTicket includes one drink ticket to be used for a pour in the taproom. Come with friends and hang around for a bit to enjoy your Saturday afternoon!\nPLEASE BRING YOUR OWN MAT!
URL:https://visit-marlborough.com/event/yoga-in-the-brewery-tackle-box-18/
LOCATION:Tackle Box Brewing Company\, 416 Boston Post Road East\, Marlborough\, MA\, 01752\, United States
END:VEVENT
BEGIN:VEVENT
DTSTART;TZID=America/New_York:20221001T190000
DTEND;TZID=America/New_York:20221001T220000
DTSTAMP:20260424T043320
CREATED:20220923T145226Z
LAST-MODIFIED:20220923T145226Z
UID:211090-1664650800-1664661600@visit-marlborough.com
SUMMARY:Live Music @ Tackle Box
DESCRIPTION:Til Dawn is performing at Tackle Box Brewing!
URL:https://visit-marlborough.com/event/live-music-tackle-box-71/
LOCATION:Tackle Box Brewing Company\, 416 Boston Post Road East\, Marlborough\, MA\, 01752\, United States
END:VEVENT
BEGIN:VEVENT
DTSTART;TZID=America/New_York:20221002T100000
DTEND;TZID=America/New_York:20221002T130000
DTSTAMP:20260424T043320
CREATED:20220928T153852Z
LAST-MODIFIED:20220928T153852Z
UID:211100-1664704800-1664715600@visit-marlborough.com
SUMMARY:Donut Stand Pop-Up @ Lost Shoe
DESCRIPTION:The Donut Stand will be at Lost Shoe for a pop-up! Come get your hands on one of their delicious donuts while they last — it won’t be long!
URL:https://visit-marlborough.com/event/donut-stand-pop-up-lost-shoe/
LOCATION:Lost Shoe Brewing & Roasting Co.\, 19 Weed Street\, Marlborough\, MA\, 01752\, United States
END:VEVENT
BEGIN:VEVENT
DTSTART;TZID=America/New_York:20221002T113000
DTEND;TZID=America/New_York:20221002T140000
DTSTAMP:20260424T043320
CREATED:20220923T150731Z
LAST-MODIFIED:20220923T150731Z
UID:209167-1664710200-1664719200@visit-marlborough.com
SUMMARY:Kegs & Eggs\, Sunday Brunch @ Tackle Box
DESCRIPTION:Enjoy Kegs & Eggs Sunday Brunch with Tackle Box Brewery!
URL:https://visit-marlborough.com/event/kegs-eggs-sunday-brunch-tackle-box-3-2/
LOCATION:Tackle Box Brewing Company\, 416 Boston Post Road East\, Marlborough\, MA\, 01752\, United States
END:VEVENT
BEGIN:VEVENT
DTSTART;TZID=America/New_York:20221002T120000
DTEND;TZID=America/New_York:20221002T150000
DTSTAMP:20260424T043320
CREATED:20220923T145333Z
LAST-MODIFIED:20220923T145333Z
UID:211091-1664712000-1664722800@visit-marlborough.com
SUMMARY:Live Music @ Tackle Box
DESCRIPTION:Greg Schuler is performing at Tackle Box Brewing!
URL:https://visit-marlborough.com/event/live-music-tackle-box-72/
LOCATION:Tackle Box Brewing Company\, 416 Boston Post Road East\, Marlborough\, MA\, 01752\, United States
END:VEVENT
BEGIN:VEVENT
DTSTART;TZID=America/New_York:20221004T190000
DTEND;TZID=America/New_York:20221004T210000
DTSTAMP:20260424T043320
CREATED:20220921T192439Z
LAST-MODIFIED:20220921T192439Z
UID:211086-1664910000-1664917200@visit-marlborough.com
SUMMARY:Geeks Who Drink Trivia @ Lost Shoe
DESCRIPTION:Trivia Night starting at 7 pm!
URL:https://visit-marlborough.com/event/geeks-who-drink-trivia-lost-shoe-12/
LOCATION:Lost Shoe Brewing & Roasting Co.\, 19 Weed Street\, Marlborough\, MA\, 01752\, United States
END:VEVENT
BEGIN:VEVENT
DTSTART;TZID=America/New_York:20221004T190000
DTEND;TZID=America/New_York:20221004T210000
DTSTAMP:20260424T043320
CREATED:20221003T164017Z
LAST-MODIFIED:20221003T164017Z
UID:211106-1664910000-1664917200@visit-marlborough.com
SUMMARY:Music Bingo @ Tackle Box
DESCRIPTION:Every Tuesday at 7pm! Play for free! 4 Rounds! Prizes for Winners!
URL:https://visit-marlborough.com/event/music-bingo-tackle-box/
LOCATION:Tackle Box Brewing Company\, 416 Boston Post Road East\, Marlborough\, MA\, 01752\, United States
END:VEVENT
BEGIN:VEVENT
DTSTART;TZID=America/New_York:20221005T193000
DTEND;TZID=America/New_York:20221005T213000
DTSTAMP:20260424T043320
CREATED:20220923T150905Z
LAST-MODIFIED:20220923T150905Z
UID:209169-1664998200-1665005400@visit-marlborough.com
SUMMARY:Trivia @ Tackle Box Brewing
DESCRIPTION:Trivia Night!!
URL:https://visit-marlborough.com/event/trivia-tackle-box-brewing-33/
LOCATION:Tackle Box Brewing Company\, 416 Boston Post Road East\, Marlborough\, MA\, 01752\, United States
END:VEVENT
BEGIN:VEVENT
DTSTART;TZID=America/New_York:20221006T180000
DTEND;TZID=America/New_York:20221006T200000
DTSTAMP:20260424T043320
CREATED:20220923T151449Z
LAST-MODIFIED:20220923T151449Z
UID:209183-1665079200-1665086400@visit-marlborough.com
SUMMARY:Book Club @ Tackle Box
DESCRIPTION:Book Club night!
URL:https://visit-marlborough.com/event/book-club-tackle-box-7/
LOCATION:Tackle Box Brewing Company\, 416 Boston Post Road East\, Marlborough\, MA\, 01752\, United States
END:VEVENT
BEGIN:VEVENT
DTSTART;TZID=America/New_York:20221006T200000
DTEND;TZID=America/New_York:20221006T220000
DTSTAMP:20260424T043320
CREATED:20220923T151611Z
LAST-MODIFIED:20220923T151611Z
UID:211099-1665086400-1665093600@visit-marlborough.com
SUMMARY:Karaoke Night @ Tackle Box
DESCRIPTION:Karaoke Night!
URL:https://visit-marlborough.com/event/karaoke-night-tackle-box-13/
LOCATION:Tackle Box Brewing Company\, 416 Boston Post Road East\, Marlborough\, MA\, 01752\, United States
END:VEVENT
BEGIN:VEVENT
DTSTART;TZID=America/New_York:20221007T190000
DTEND;TZID=America/New_York:20221007T220000
DTSTAMP:20260424T043320
CREATED:20220923T145444Z
LAST-MODIFIED:20220923T145444Z
UID:211092-1665169200-1665180000@visit-marlborough.com
SUMMARY:Live Music @ Tackle Box
DESCRIPTION:Whiskey Cherrybomb is performing at Tackle Box Brewing!
URL:https://visit-marlborough.com/event/live-music-tackle-box-73/
LOCATION:Tackle Box Brewing Company\, 416 Boston Post Road East\, Marlborough\, MA\, 01752\, United States
END:VEVENT
BEGIN:VEVENT
DTSTART;TZID=America/New_York:20221008T120000
DTEND;TZID=America/New_York:20221008T190000
DTSTAMP:20260424T043320
CREATED:20220928T173722Z
LAST-MODIFIED:20220928T173722Z
UID:209211-1665230400-1665255600@visit-marlborough.com
SUMMARY:Raina's Plate Hot Dog Pop-Up @ Lost Shoe
DESCRIPTION:Raina’s Plate Hot Dog will be at Lost Shoe for a pop-up!
URL:https://visit-marlborough.com/event/rainas-plate-hot-dog-pop-up-lost-shoe/
LOCATION:Lost Shoe Brewing & Roasting Co.\, 19 Weed Street\, Marlborough\, MA\, 01752\, United States
END:VEVENT
BEGIN:VEVENT
DTSTART;TZID=America/New_York:20221008T190000
DTEND;TZID=America/New_York:20221008T220000
DTSTAMP:20260424T043320
CREATED:20220923T145529Z
LAST-MODIFIED:20220923T145529Z
UID:211093-1665255600-1665266400@visit-marlborough.com
SUMMARY:Live Music @ Tackle Box
DESCRIPTION:Hollys Farewell is performing at Tackle Box Brewing!
URL:https://visit-marlborough.com/event/live-music-tackle-box-74/
LOCATION:Tackle Box Brewing Company\, 416 Boston Post Road East\, Marlborough\, MA\, 01752\, United States
END:VEVENT
BEGIN:VEVENT
DTSTART;TZID=America/New_York:20221009T130000
DTEND;TZID=America/New_York:20221009T150000
DTSTAMP:20260424T043320
CREATED:20221003T163056Z
LAST-MODIFIED:20221003T163056Z
UID:211104-1665320400-1665327600@visit-marlborough.com
SUMMARY:Sip 'N Paint @ Tackle Box
DESCRIPTION:Sip ‘N Paint Fall Pumpkins on a Slate Sign! A fun\, fall\, paint and sip event! Join us for a fun afternoon to create your own pumpkin themed slate sign. All supplies & guidance included\, lots of fun for all ages! \nFrom the website: Come enjoy your favorite drink as I show you step by step how to paint your own fall sign. No experience is required\, you can paint along with me or add your own details\, background\, or quote. All drinks are sold separately\, this is an all-ages event.
URL:https://visit-marlborough.com/event/sip-n-paint-tackle-box/
LOCATION:Tackle Box Brewing Company\, 416 Boston Post Road East\, Marlborough\, MA\, 01752\, United States
END:VEVENT
BEGIN:VEVENT
DTSTART;TZID=America/New_York:20221011T190000
DTEND;TZID=America/New_York:20221011T210000
DTSTAMP:20260424T043320
CREATED:20220928T154354Z
LAST-MODIFIED:20220928T154354Z
UID:209203-1665514800-1665522000@visit-marlborough.com
SUMMARY:Geeks Who Drink Trivia @ Lost Shoe
DESCRIPTION:Trivia Night starting at 7 pm!
URL:https://visit-marlborough.com/event/geeks-who-drink-trivia-lost-shoe-13/
LOCATION:Lost Shoe Brewing & Roasting Co.\, 19 Weed Street\, Marlborough\, MA\, 01752\, United States
END:VEVENT
BEGIN:VEVENT
DTSTART;TZID=America/New_York:20221011T190000
DTEND;TZID=America/New_York:20221011T210000
DTSTAMP:20260424T043320
CREATED:20221003T164056Z
LAST-MODIFIED:20221003T164056Z
UID:209232-1665514800-1665522000@visit-marlborough.com
SUMMARY:Music Bingo @ Tackle Box
DESCRIPTION:Every Tuesday at 7pm! Play for free! 4 Rounds! Prizes for Winners!
URL:https://visit-marlborough.com/event/music-bingo-tackle-box-2/
LOCATION:Tackle Box Brewing Company\, 416 Boston Post Road East\, Marlborough\, MA\, 01752\, United States
END:VEVENT
BEGIN:VEVENT
DTSTART;TZID=America/New_York:20221012T180000
DTEND;TZID=America/New_York:20221012T200000
DTSTAMP:20260424T043320
CREATED:20220928T174526Z
LAST-MODIFIED:20220928T174526Z
UID:209213-1665597600-1665604800@visit-marlborough.com
SUMMARY:Pumpkin Calligraphy Class @ Lost Shoe
DESCRIPTION:Join Sydney from Sage & Oak Creative for an evening learning the art of modern lettering at Lost Shoe Brewing and Roasting Company! We will provide you with an incredible intro to modern lettering giving you the know-how to then personalize your very OWN pumpkin for your home! \nEach class comes with 1 medium white craft (faux) pumpkin and the instructional calligraphy basics for continued practice. All materials included. Bar will be open for Lost Shoe Brew consumption during the event!
URL:https://visit-marlborough.com/event/pumpkin-calligraphy-class-lost-shoe/
LOCATION:Lost Shoe Brewing & Roasting Co.\, 19 Weed Street\, Marlborough\, MA\, 01752\, United States
ORGANIZER;CN="Inked by Elle":MAILTO:elle@inkedbyelle.com
END:VEVENT
BEGIN:VEVENT
DTSTART;TZID=America/New_York:20221012T193000
DTEND;TZID=America/New_York:20221012T213000
DTSTAMP:20260424T043320
CREATED:20220923T150942Z
LAST-MODIFIED:20220923T150942Z
UID:209171-1665603000-1665610200@visit-marlborough.com
SUMMARY:Trivia @ Tackle Box Brewing
DESCRIPTION:Trivia Night!!
URL:https://visit-marlborough.com/event/trivia-tackle-box-brewing-34/
LOCATION:Tackle Box Brewing Company\, 416 Boston Post Road East\, Marlborough\, MA\, 01752\, United States
END:VEVENT
BEGIN:VEVENT
DTSTART;TZID=America/New_York:20221013T190000
DTEND;TZID=America/New_York:20221013T220000
DTSTAMP:20260424T043320
CREATED:20220923T151234Z
LAST-MODIFIED:20220923T151234Z
UID:209177-1665687600-1665698400@visit-marlborough.com
SUMMARY:Open Mic @ Tackle Box
DESCRIPTION:Open Mic Night!! Starting at 7 pm!
URL:https://visit-marlborough.com/event/open-mic-tackle-box-25/
LOCATION:Tackle Box Brewing Company\, 416 Boston Post Road East\, Marlborough\, MA\, 01752\, United States
END:VEVENT
BEGIN:VEVENT
DTSTART;TZID=America/New_York:20221014T190000
DTEND;TZID=America/New_York:20221014T220000
DTSTAMP:20260424T043320
CREATED:20220923T145621Z
LAST-MODIFIED:20220923T145621Z
UID:211094-1665774000-1665784800@visit-marlborough.com
SUMMARY:Live Music @ Tackle Box
DESCRIPTION:John Gauvin is performing at Tackle Box Brewing!
URL:https://visit-marlborough.com/event/live-music-tackle-box-75/
LOCATION:Tackle Box Brewing Company\, 416 Boston Post Road East\, Marlborough\, MA\, 01752\, United States
END:VEVENT
BEGIN:VEVENT
DTSTART;TZID=America/New_York:20221015T103000
DTEND;TZID=America/New_York:20221015T120000
DTSTAMP:20260424T043320
CREATED:20220928T175621Z
LAST-MODIFIED:20220928T175621Z
UID:209215-1665829800-1665835200@visit-marlborough.com
SUMMARY:Bootcamp\, Brews & Books @ Lost Shoe
DESCRIPTION:SPENGA & Lost Shoe are teaming up to donate to Dollars for Scholars by hosting a 45 minutes bootcamp outside Lost Shoe. \nJoin SPENGA & Lost Shoe Brewing & Roasting Company for this community event as we workout all while giving back to the community. We ask that participants donate a children’s book that we will donate to Dollars for Scholars. Your book donation will then enter you into a raffle to win a gift basket valued at over $100 from local sponsors. After our high energy bootcamp\, all participants will be able to enjoy 1 free drink (drink tickets will be distributed at the event). All are welcome! No prior experience needed. Recommended to bring your own yoga mat.
URL:https://visit-marlborough.com/event/bootcamp-brews-books-lost-shoe/
LOCATION:Lost Shoe Brewing & Roasting Co.\, 19 Weed Street\, Marlborough\, MA\, 01752\, United States
END:VEVENT
BEGIN:VEVENT
DTSTART;TZID=America/New_York:20221015T110000
DTEND;TZID=America/New_York:20221015T120000
DTSTAMP:20260424T043320
CREATED:20220923T144852Z
LAST-MODIFIED:20220923T144852Z
UID:209145-1665831600-1665835200@visit-marlborough.com
SUMMARY:Yoga in the Brewery @ Tackle Box
DESCRIPTION:Join us for a 60-minute all-levels yoga class in the brewery\, followed by a refreshing craft beer on tap! (1 drink included w/ ticket!)\nYOGA + BEER: The best of both worlds!\nEnjoy your late Saturday morning with a 60-minute all-levels yoga class\, led by 200-Hr CYT Al Dewsnap to fun and uplifting music in the empty brewery! Class takes place from 11-12 and will be followed with a refreshing beer courtesy of Tackle Box Brewing Co. when the taproom opens at noon.\nTicket includes one drink ticket to be used for a pour in the taproom. Come with friends and hang around for a bit to enjoy your Saturday afternoon!\nPLEASE BRING YOUR OWN MAT!
URL:https://visit-marlborough.com/event/yoga-in-the-brewery-tackle-box-19/
LOCATION:Tackle Box Brewing Company\, 416 Boston Post Road East\, Marlborough\, MA\, 01752\, United States
END:VEVENT
BEGIN:VEVENT
DTSTART;TZID=America/New_York:20221015T190000
DTEND;TZID=America/New_York:20221015T220000
DTSTAMP:20260424T043320
CREATED:20220923T145709Z
LAST-MODIFIED:20220923T145709Z
UID:209159-1665860400-1665871200@visit-marlborough.com
SUMMARY:Live Music @ Tackle Box
DESCRIPTION:Zen Music Men is performing at Tackle Box Brewing!
URL:https://visit-marlborough.com/event/live-music-tackle-box-76/
LOCATION:Tackle Box Brewing Company\, 416 Boston Post Road East\, Marlborough\, MA\, 01752\, United States
END:VEVENT
BEGIN:VEVENT
DTSTART;TZID=America/New_York:20221018T190000
DTEND;TZID=America/New_York:20221018T210000
DTSTAMP:20260424T043320
CREATED:20220928T154623Z
LAST-MODIFIED:20220928T154623Z
UID:209205-1666119600-1666126800@visit-marlborough.com
SUMMARY:Geeks Who Drink Trivia @ Lost Shoe
DESCRIPTION:Trivia Night starting at 7 pm!
URL:https://visit-marlborough.com/event/geeks-who-drink-trivia-lost-shoe-14/
LOCATION:Lost Shoe Brewing & Roasting Co.\, 19 Weed Street\, Marlborough\, MA\, 01752\, United States
END:VEVENT
BEGIN:VEVENT
DTSTART;TZID=America/New_York:20221018T190000
DTEND;TZID=America/New_York:20221018T210000
DTSTAMP:20260424T043320
CREATED:20221003T164123Z
LAST-MODIFIED:20221003T164123Z
UID:211109-1666119600-1666126800@visit-marlborough.com
SUMMARY:Music Bingo @ Tackle Box
DESCRIPTION:Every Tuesday at 7pm! Play for free! 4 Rounds! Prizes for Winners!
URL:https://visit-marlborough.com/event/music-bingo-tackle-box-3/
LOCATION:Tackle Box Brewing Company\, 416 Boston Post Road East\, Marlborough\, MA\, 01752\, United States
END:VEVENT
BEGIN:VEVENT
DTSTART;TZID=America/New_York:20221019T193000
DTEND;TZID=America/New_York:20221019T213000
DTSTAMP:20260424T043320
CREATED:20220923T151011Z
LAST-MODIFIED:20220923T151011Z
UID:211097-1666207800-1666215000@visit-marlborough.com
SUMMARY:Trivia @ Tackle Box Brewing
DESCRIPTION:Trivia Night!!
URL:https://visit-marlborough.com/event/trivia-tackle-box-brewing-35/
LOCATION:Tackle Box Brewing Company\, 416 Boston Post Road East\, Marlborough\, MA\, 01752\, United States
END:VEVENT
BEGIN:VEVENT
DTSTART;TZID=America/New_York:20221020T190000
DTEND;TZID=America/New_York:20221020T220000
DTSTAMP:20260424T043320
CREATED:20220923T151304Z
LAST-MODIFIED:20220923T151304Z
UID:211098-1666292400-1666303200@visit-marlborough.com
SUMMARY:Open Mic @ Tackle Box
DESCRIPTION:Open Mic Night!! Starting at 7 pm!
URL:https://visit-marlborough.com/event/open-mic-tackle-box-26/
LOCATION:Tackle Box Brewing Company\, 416 Boston Post Road East\, Marlborough\, MA\, 01752\, United States
END:VEVENT
BEGIN:VEVENT
DTSTART;TZID=America/New_York:20221021T210000
DTEND;TZID=America/New_York:20221021T230000
DTSTAMP:20260424T043320
CREATED:20221003T175109Z
LAST-MODIFIED:20221003T175109Z
UID:209238-1666386000-1666393200@visit-marlborough.com
SUMMARY:Laughing Lure Comedy Night @ Tackle Box Brewing
DESCRIPTION:Laughing Lure Comedy night!
URL:https://visit-marlborough.com/event/laughing-lure-comedy-night-tackle-box-brewing-8/
LOCATION:Tackle Box Brewing Company\, 416 Boston Post Road East\, Marlborough\, MA\, 01752\, United States
END:VEVENT
BEGIN:VEVENT
DTSTART;TZID=America/New_York:20221022T190000
DTEND;TZID=America/New_York:20221022T220000
DTSTAMP:20260424T043320
CREATED:20220923T145751Z
LAST-MODIFIED:20220923T145751Z
UID:211095-1666465200-1666476000@visit-marlborough.com
SUMMARY:Live Music @ Tackle Box
DESCRIPTION:Z Company is performing at Tackle Box Brewing!
URL:https://visit-marlborough.com/event/live-music-tackle-box-77/
LOCATION:Tackle Box Brewing Company\, 416 Boston Post Road East\, Marlborough\, MA\, 01752\, United States
END:VEVENT
BEGIN:VEVENT
DTSTART;TZID=America/New_York:20221023T140000
DTEND;TZID=America/New_York:20221023T160000
DTSTAMP:20260424T043320
CREATED:20221003T163537Z
LAST-MODIFIED:20221003T163537Z
UID:211105-1666533600-1666540800@visit-marlborough.com
SUMMARY:Knit & Sip @ Tackle Box
DESCRIPTION:Learn the basics and take home the yarn of your choice and a set of knitting needles.
URL:https://visit-marlborough.com/event/knit-sip-tackle-box/
LOCATION:Tackle Box Brewing Company\, 416 Boston Post Road East\, Marlborough\, MA\, 01752\, United States
END:VEVENT
END:VCALENDAR