BEGIN:VCALENDAR
VERSION:2.0
PRODID:-//Visit Marlborough - ECPv6.15.20//NONSGML v1.0//EN
CALSCALE:GREGORIAN
METHOD:PUBLISH
X-ORIGINAL-URL:https://visit-marlborough.com
X-WR-CALDESC:Events for Visit Marlborough
REFRESH-INTERVAL;VALUE=DURATION:PT1H
X-Robots-Tag:noindex
X-PUBLISHED-TTL:PT1H
BEGIN:VTIMEZONE
TZID:America/New_York
BEGIN:DAYLIGHT
TZOFFSETFROM:-0500
TZOFFSETTO:-0400
TZNAME:EDT
DTSTART:20210314T070000
END:DAYLIGHT
BEGIN:STANDARD
TZOFFSETFROM:-0400
TZOFFSETTO:-0500
TZNAME:EST
DTSTART:20211107T060000
END:STANDARD
BEGIN:DAYLIGHT
TZOFFSETFROM:-0500
TZOFFSETTO:-0400
TZNAME:EDT
DTSTART:20220313T070000
END:DAYLIGHT
BEGIN:STANDARD
TZOFFSETFROM:-0400
TZOFFSETTO:-0500
TZNAME:EST
DTSTART:20221106T060000
END:STANDARD
BEGIN:DAYLIGHT
TZOFFSETFROM:-0500
TZOFFSETTO:-0400
TZNAME:EDT
DTSTART:20230312T070000
END:DAYLIGHT
BEGIN:STANDARD
TZOFFSETFROM:-0400
TZOFFSETTO:-0500
TZNAME:EST
DTSTART:20231105T060000
END:STANDARD
END:VTIMEZONE
BEGIN:VEVENT
DTSTART;TZID=America/New_York:20220604T100000
DTEND;TZID=America/New_York:20220604T140000
DTSTAMP:20260423T225839
CREATED:20220531T155321Z
LAST-MODIFIED:20220531T155321Z
UID:210922-1654336800-1654351200@visit-marlborough.com
SUMMARY:Farmers Market at Lost Shoe!
DESCRIPTION:2022 Farmers Market\nSaturdays 10am-2pm from June 4th through September 3rd\nBehind City Hall in Downtown Marlborough\, MA\n\nVendors Featured:\n\nVista Grainworks\nVibes Candles\nLauren’s Best Batch\nSeven Energy\nSmokie’s Cuts
URL:https://visit-marlborough.com/event/farmers-market-at-lost-shoe-14/
LOCATION:Lost Shoe Brewing & Roasting Co.\, 19 Weed Street\, Marlborough\, MA\, 01752\, United States
END:VEVENT
BEGIN:VEVENT
DTSTART;TZID=America/New_York:20220604T100000
DTEND;TZID=America/New_York:20220604T140000
DTSTAMP:20260423T225839
CREATED:20220531T155321Z
LAST-MODIFIED:20220531T155321Z
UID:208572-1654336800-1654351200@visit-marlborough.com
SUMMARY:Farmers Market at Lost Shoe!
DESCRIPTION:2022 Farmers Market\nSaturdays 10am-2pm from June 4th through September 3rd\nBehind City Hall in Downtown Marlborough\, MA\n\nVendors Featured:\n\nVista Grainworks\nVibes Candles\nLauren’s Best Batch\nSeven Energy\nSmokie’s Cuts
URL:https://visit-marlborough.com/event/farmers-market-at-lost-shoe/
LOCATION:Lost Shoe Brewing & Roasting Co.\, 19 Weed Street\, Marlborough\, MA\, 01752\, United States
END:VEVENT
BEGIN:VEVENT
DTSTART;TZID=America/New_York:20220611T100000
DTEND;TZID=America/New_York:20220611T140000
DTSTAMP:20260423T225839
CREATED:20220531T155751Z
LAST-MODIFIED:20220531T155751Z
UID:210923-1654941600-1654956000@visit-marlborough.com
SUMMARY:Farmers Market at Lost Shoe!
DESCRIPTION:2022 Farmers Market\nSaturdays 10am-2pm from June 4th through September 3rd\nBehind City Hall in Downtown Marlborough\, MA\n\nVendors Featured:\n\nThe Lounging Bee
URL:https://visit-marlborough.com/event/farmers-market-at-lost-shoe-2-2/
LOCATION:Lost Shoe Brewing & Roasting Co.\, 19 Weed Street\, Marlborough\, MA\, 01752\, United States
END:VEVENT
BEGIN:VEVENT
DTSTART;TZID=America/New_York:20220611T100000
DTEND;TZID=America/New_York:20220611T140000
DTSTAMP:20260423T225839
CREATED:20220531T155751Z
LAST-MODIFIED:20220531T155751Z
UID:208574-1654941600-1654956000@visit-marlborough.com
SUMMARY:Farmers Market at Lost Shoe!
DESCRIPTION:2022 Farmers Market\nSaturdays 10am-2pm from June 4th through September 3rd\nBehind City Hall in Downtown Marlborough\, MA\n\nVendors Featured:\n\nThe Lounging Bee
URL:https://visit-marlborough.com/event/farmers-market-at-lost-shoe-2/
LOCATION:Lost Shoe Brewing & Roasting Co.\, 19 Weed Street\, Marlborough\, MA\, 01752\, United States
END:VEVENT
BEGIN:VEVENT
DTSTART;TZID=America/New_York:20220613T183000
DTEND;TZID=America/New_York:20220613T183000
DTSTAMP:20260423T225839
CREATED:20220609T142827Z
LAST-MODIFIED:20220609T142827Z
UID:210977-1655145000-1655145000@visit-marlborough.com
SUMMARY:Monday Night Run Cub @ Lost Shoe
DESCRIPTION:Monday Night Run Club every Monday starting at 6:30 pm!
URL:https://visit-marlborough.com/event/monday-night-run-cub-lost-shoe-7/
LOCATION:MA
END:VEVENT
BEGIN:VEVENT
DTSTART;TZID=America/New_York:20220613T183000
DTEND;TZID=America/New_York:20220613T183000
DTSTAMP:20260423T225839
CREATED:20220609T142827Z
LAST-MODIFIED:20220609T142827Z
UID:208719-1655145000-1655145000@visit-marlborough.com
SUMMARY:Monday Night Run Cub @ Lost Shoe
DESCRIPTION:Monday Night Run Club every Monday starting at 6:30 pm!
URL:https://visit-marlborough.com/event/monday-night-run-cub-lost-shoe/
LOCATION:MA
END:VEVENT
BEGIN:VEVENT
DTSTART;TZID=America/New_York:20220618T100000
DTEND;TZID=America/New_York:20220618T140000
DTSTAMP:20260423T225839
CREATED:20220531T160025Z
LAST-MODIFIED:20220531T160025Z
UID:210924-1655546400-1655560800@visit-marlborough.com
SUMMARY:Farmers Market at Lost Shoe!
DESCRIPTION:2022 Farmers Market\nSaturdays 10am-2pm from June 4th through September 3rd\nBehind City Hall in Downtown Marlborough\, MA\n\nVendors Featured:\n\nTBA
URL:https://visit-marlborough.com/event/farmers-market-at-lost-shoe-3-2/
LOCATION:Lost Shoe Brewing & Roasting Co.\, 19 Weed Street\, Marlborough\, MA\, 01752\, United States
END:VEVENT
BEGIN:VEVENT
DTSTART;TZID=America/New_York:20220618T100000
DTEND;TZID=America/New_York:20220618T140000
DTSTAMP:20260423T225839
CREATED:20220531T160025Z
LAST-MODIFIED:20220531T160025Z
UID:208576-1655546400-1655560800@visit-marlborough.com
SUMMARY:Farmers Market at Lost Shoe!
DESCRIPTION:2022 Farmers Market\nSaturdays 10am-2pm from June 4th through September 3rd\nBehind City Hall in Downtown Marlborough\, MA\n\nVendors Featured:\n\nTBA
URL:https://visit-marlborough.com/event/farmers-market-at-lost-shoe-3/
LOCATION:Lost Shoe Brewing & Roasting Co.\, 19 Weed Street\, Marlborough\, MA\, 01752\, United States
END:VEVENT
BEGIN:VEVENT
DTSTART;TZID=America/New_York:20220620T183000
DTEND;TZID=America/New_York:20220620T183000
DTSTAMP:20260423T225839
CREATED:20220609T142938Z
LAST-MODIFIED:20220609T142938Z
UID:210978-1655749800-1655749800@visit-marlborough.com
SUMMARY:Monday Night Run Cub @ Lost Shoe
DESCRIPTION:Monday Night Run Club every Monday starting at 6:30 pm!
URL:https://visit-marlborough.com/event/monday-night-run-cub-lost-shoe-2-2/
LOCATION:MA
END:VEVENT
BEGIN:VEVENT
DTSTART;TZID=America/New_York:20220620T183000
DTEND;TZID=America/New_York:20220620T183000
DTSTAMP:20260423T225839
CREATED:20220609T142938Z
LAST-MODIFIED:20220609T142938Z
UID:208721-1655749800-1655749800@visit-marlborough.com
SUMMARY:Monday Night Run Cub @ Lost Shoe
DESCRIPTION:Monday Night Run Club every Monday starting at 6:30 pm!
URL:https://visit-marlborough.com/event/monday-night-run-cub-lost-shoe-2/
LOCATION:MA
END:VEVENT
BEGIN:VEVENT
DTSTART;TZID=America/New_York:20220625T100000
DTEND;TZID=America/New_York:20220625T140000
DTSTAMP:20260423T225839
CREATED:20220531T160303Z
LAST-MODIFIED:20220531T160303Z
UID:210925-1656151200-1656165600@visit-marlborough.com
SUMMARY:Farmers Market at Lost Shoe!
DESCRIPTION:2022 Farmers Market\nSaturdays 10am-2pm from June 4th through September 3rd\nBehind City Hall in Downtown Marlborough\, MA\n\nVendors Featured:\n\nThe Lounging Bee\nSmokie’s Cuts
URL:https://visit-marlborough.com/event/farmers-market-at-lost-shoe-4-2/
LOCATION:Lost Shoe Brewing & Roasting Co.\, 19 Weed Street\, Marlborough\, MA\, 01752\, United States
END:VEVENT
BEGIN:VEVENT
DTSTART;TZID=America/New_York:20220625T100000
DTEND;TZID=America/New_York:20220625T140000
DTSTAMP:20260423T225839
CREATED:20220531T160303Z
LAST-MODIFIED:20220531T160303Z
UID:208578-1656151200-1656165600@visit-marlborough.com
SUMMARY:Farmers Market at Lost Shoe!
DESCRIPTION:2022 Farmers Market\nSaturdays 10am-2pm from June 4th through September 3rd\nBehind City Hall in Downtown Marlborough\, MA\n\nVendors Featured:\n\nThe Lounging Bee\nSmokie’s Cuts
URL:https://visit-marlborough.com/event/farmers-market-at-lost-shoe-4/
LOCATION:Lost Shoe Brewing & Roasting Co.\, 19 Weed Street\, Marlborough\, MA\, 01752\, United States
END:VEVENT
BEGIN:VEVENT
DTSTART;TZID=America/New_York:20220627T183000
DTEND;TZID=America/New_York:20220627T183000
DTSTAMP:20260423T225839
CREATED:20220609T143110Z
LAST-MODIFIED:20220609T143110Z
UID:210979-1656354600-1656354600@visit-marlborough.com
SUMMARY:Monday Night Run Cub @ Lost Shoe
DESCRIPTION:Monday Night Run Club every Monday starting at 6:30 pm!
URL:https://visit-marlborough.com/event/monday-night-run-cub-lost-shoe-3-2/
LOCATION:MA
END:VEVENT
BEGIN:VEVENT
DTSTART;TZID=America/New_York:20220627T183000
DTEND;TZID=America/New_York:20220627T183000
DTSTAMP:20260423T225839
CREATED:20220609T143110Z
LAST-MODIFIED:20220609T143110Z
UID:208723-1656354600-1656354600@visit-marlborough.com
SUMMARY:Monday Night Run Cub @ Lost Shoe
DESCRIPTION:Monday Night Run Club every Monday starting at 6:30 pm!
URL:https://visit-marlborough.com/event/monday-night-run-cub-lost-shoe-3/
LOCATION:MA
END:VEVENT
END:VCALENDAR