BEGIN:VCALENDAR
VERSION:2.0
PRODID:-//Visit Marlborough - ECPv6.15.20//NONSGML v1.0//EN
CALSCALE:GREGORIAN
METHOD:PUBLISH
X-ORIGINAL-URL:https://visit-marlborough.com
X-WR-CALDESC:Events for Visit Marlborough
REFRESH-INTERVAL;VALUE=DURATION:PT1H
X-Robots-Tag:noindex
X-PUBLISHED-TTL:PT1H
BEGIN:VTIMEZONE
TZID:America/New_York
BEGIN:DAYLIGHT
TZOFFSETFROM:-0500
TZOFFSETTO:-0400
TZNAME:EDT
DTSTART:20250309T070000
END:DAYLIGHT
BEGIN:STANDARD
TZOFFSETFROM:-0400
TZOFFSETTO:-0500
TZNAME:EST
DTSTART:20251102T060000
END:STANDARD
BEGIN:DAYLIGHT
TZOFFSETFROM:-0500
TZOFFSETTO:-0400
TZNAME:EDT
DTSTART:20260308T070000
END:DAYLIGHT
BEGIN:STANDARD
TZOFFSETFROM:-0400
TZOFFSETTO:-0500
TZNAME:EST
DTSTART:20261101T060000
END:STANDARD
BEGIN:DAYLIGHT
TZOFFSETFROM:-0500
TZOFFSETTO:-0400
TZNAME:EDT
DTSTART:20270314T070000
END:DAYLIGHT
BEGIN:STANDARD
TZOFFSETFROM:-0400
TZOFFSETTO:-0500
TZNAME:EST
DTSTART:20271107T060000
END:STANDARD
END:VTIMEZONE
BEGIN:VEVENT
DTSTART;TZID=America/New_York:20260211T183000
DTEND;TZID=America/New_York:20260211T203000
DTSTAMP:20260425T083435
CREATED:20260210T154539Z
LAST-MODIFIED:20260210T154539Z
UID:217104-1770834600-1770841800@visit-marlborough.com
SUMMARY:Divination with the Stars Astrology Workshop @ Lost Shoe
DESCRIPTION:Curious what the stars have to say about you? Join Read by Renee for an interactive astrology workshop that breaks things down in a way that actually makes sense—no prior astrology knowledge required. \nRenee will kick things off with a mini demonstration on how to find your natal chart\, then walk through the basics of chart interpretation and key concepts to know when reading your own. We’ll also touch on what Mercury Retrograde and Eclipse Season really mean for individual charts\, and how to navigate them with a little more clarity (and a lot less panic). \nCome learn\, ask questions\, and leave with a better understanding of your chart—and the cosmic timing around you. \n✨ All are welcome. Curiosity encouraged.
URL:https://visit-marlborough.com/event/divination-with-the-stars-astrology-workshop-lost-shoe/
LOCATION:Lost Shoe Brewing & Roasting Co.\, 19 Weed Street\, Marlborough\, MA\, 01752\, United States
ORGANIZER;CN="Read by Renee":MAILTO:renee@readbyreneetoday.com
END:VEVENT
BEGIN:VEVENT
DTSTART;TZID=America/New_York:20260211T193000
DTEND;TZID=America/New_York:20260211T213000
DTSTAMP:20260425T083435
CREATED:20260210T193734Z
LAST-MODIFIED:20260210T193734Z
UID:217132-1770838200-1770845400@visit-marlborough.com
SUMMARY:Trivia @ Tackle Box Brewing
DESCRIPTION:Join us every Wednesday for a fun-filled trivia night hosted by George! Bring your friends\, test your knowledge\, and enjoy great drinks at Tackle Box Brewing Co. Don’t miss out!
URL:https://visit-marlborough.com/event/trivia-tackle-box-brewing-113/
LOCATION:Tackle Box Brewing Company\, 416 Boston Post Road East\, Marlborough\, MA\, 01752\, United States
END:VEVENT
END:VCALENDAR