BEGIN:VCALENDAR
VERSION:2.0
PRODID:-//Visit Marlborough - ECPv6.15.20//NONSGML v1.0//EN
CALSCALE:GREGORIAN
METHOD:PUBLISH
X-ORIGINAL-URL:https://visit-marlborough.com
X-WR-CALDESC:Events for Visit Marlborough
REFRESH-INTERVAL;VALUE=DURATION:PT1H
X-Robots-Tag:noindex
X-PUBLISHED-TTL:PT1H
BEGIN:VTIMEZONE
TZID:America/New_York
BEGIN:DAYLIGHT
TZOFFSETFROM:-0500
TZOFFSETTO:-0400
TZNAME:EDT
DTSTART:20230312T070000
END:DAYLIGHT
BEGIN:STANDARD
TZOFFSETFROM:-0400
TZOFFSETTO:-0500
TZNAME:EST
DTSTART:20231105T060000
END:STANDARD
BEGIN:DAYLIGHT
TZOFFSETFROM:-0500
TZOFFSETTO:-0400
TZNAME:EDT
DTSTART:20240310T070000
END:DAYLIGHT
BEGIN:STANDARD
TZOFFSETFROM:-0400
TZOFFSETTO:-0500
TZNAME:EST
DTSTART:20241103T060000
END:STANDARD
BEGIN:DAYLIGHT
TZOFFSETFROM:-0500
TZOFFSETTO:-0400
TZNAME:EDT
DTSTART:20250309T070000
END:DAYLIGHT
BEGIN:STANDARD
TZOFFSETFROM:-0400
TZOFFSETTO:-0500
TZNAME:EST
DTSTART:20251102T060000
END:STANDARD
END:VTIMEZONE
BEGIN:VEVENT
DTSTART;TZID=America/New_York:20241201T100000
DTEND;TZID=America/New_York:20241201T150000
DTSTAMP:20260425T062748
CREATED:20241015T201337Z
LAST-MODIFIED:20241015T204231Z
UID:215362-1733047200-1733065200@visit-marlborough.com
SUMMARY:The Annual Gurley Thanksgiving Sunday Antique Show & Sale
DESCRIPTION:Featuring 75+ Quality Dealers offering 18th and 19th Century Antiques\, 18th and 19th Century Furniture\, Paintings\, Ceramics\, Toys\, Folk art\, Nautical and Jewelry.
URL:https://visit-marlborough.com/event/the-annual-gurley-thanksgiving-sunday-antique-show-sale-3/
LOCATION:Best Western Royal Plaza\, 181 Boston Post Road West\, Marlborough\, MA\, 01752\, United States
ORGANIZER;CN="Gurley Antiques":MAILTO:joshua@gurleyauctions.com
END:VEVENT
BEGIN:VEVENT
DTSTART;TZID=America/New_York:20241207T130000
DTEND;TZID=America/New_York:20241207T150000
DTSTAMP:20260425T062748
CREATED:20241101T184659Z
LAST-MODIFIED:20241101T184659Z
UID:215439-1733576400-1733583600@visit-marlborough.com
SUMMARY:Meet & Greet with Pat Patriot and Patriots Cheerleaders
DESCRIPTION:Get ready for an exciting afternoon with Pat Patriot and the Patriots Cheerleaders at Apex! Bring your friends and family and join us for a fun-filled event featuring meet-and-greets and photo ops!
URL:https://visit-marlborough.com/event/meet-greet-with-pat-patriot-and-patriots-cheerleaders/
LOCATION:Apex Entertainment Center\, 21 Apex Drive\, Marlborough\, MA\, 01752\, United States
ORGANIZER;CN="Apex Entertainment":MAILTO:infoma@apexentertainment.com
END:VEVENT
BEGIN:VEVENT
DTSTART;TZID=America/New_York:20241208T100000
DTEND;TZID=America/New_York:20241208T140000
DTSTAMP:20260425T062748
CREATED:20240827T200535Z
LAST-MODIFIED:20240827T200535Z
UID:215113-1733652000-1733666400@visit-marlborough.com
SUMMARY:Holiday Market @ Lost Shoe
DESCRIPTION:Grab a brew & shop local vendors this holiday season! \n 
URL:https://visit-marlborough.com/event/holiday-market-lost-shoe-3/
LOCATION:Lost Shoe Brewing & Roasting Co.\, 19 Weed Street\, Marlborough\, MA\, 01752\, United States
END:VEVENT
BEGIN:VEVENT
DTSTART;TZID=America/New_York:20241218T193000
DTEND;TZID=America/New_York:20241218T220000
DTSTAMP:20260425T062748
CREATED:20241216T212658Z
LAST-MODIFIED:20241216T212658Z
UID:215609-1734550200-1734559200@visit-marlborough.com
SUMMARY:Trivia @ Tackle Box Brewing
DESCRIPTION:Thinking and drinking abound as the incomparable Trivia MC James guides you through a delightful night of Q&A. Additionally\, once a month\, you will get to partake in a special themed trivia night!
URL:https://visit-marlborough.com/event/trivia-tackle-box-brewing-87/
LOCATION:Tackle Box Brewing Company\, 416 Boston Post Road East\, Marlborough\, MA\, 01752\, United States
END:VEVENT
BEGIN:VEVENT
DTSTART;TZID=America/New_York:20241219T090000
DTEND;TZID=America/New_York:20241219T120000
DTSTAMP:20260425T062748
CREATED:20241216T210301Z
LAST-MODIFIED:20241216T210301Z
UID:215593-1734598800-1734609600@visit-marlborough.com
SUMMARY:Beats & Brews with JP @ Lost Shoe
DESCRIPTION:Enjoy a beverage while listening to owner/brewer JP spin some beats. The perfect way to get the weekend ignited!
URL:https://visit-marlborough.com/event/beats-brews-with-jp-lost-shoe-28/
LOCATION:Lost Shoe Brewing & Roasting Co.\, 19 Weed Street\, Marlborough\, MA\, 01752\, United States
END:VEVENT
BEGIN:VEVENT
DTSTART;TZID=America/New_York:20241226T090000
DTEND;TZID=America/New_York:20241226T120000
DTSTAMP:20260425T062748
CREATED:20241216T210450Z
LAST-MODIFIED:20241216T210450Z
UID:215595-1735203600-1735214400@visit-marlborough.com
SUMMARY:Beats & Brews with JP @ Lost Shoe
DESCRIPTION:Enjoy a beverage while listening to owner/brewer JP spin some beats. The perfect way to get the weekend ignited!
URL:https://visit-marlborough.com/event/beats-brews-with-jp-lost-shoe-29/
LOCATION:Lost Shoe Brewing & Roasting Co.\, 19 Weed Street\, Marlborough\, MA\, 01752\, United States
END:VEVENT
END:VCALENDAR