BEGIN:VCALENDAR
VERSION:2.0
PRODID:-//Visit Marlborough - ECPv6.15.20//NONSGML v1.0//EN
CALSCALE:GREGORIAN
METHOD:PUBLISH
X-WR-CALNAME:Visit Marlborough
X-ORIGINAL-URL:https://visit-marlborough.com
X-WR-CALDESC:Events for Visit Marlborough
REFRESH-INTERVAL;VALUE=DURATION:PT1H
X-Robots-Tag:noindex
X-PUBLISHED-TTL:PT1H
BEGIN:VTIMEZONE
TZID:America/New_York
BEGIN:DAYLIGHT
TZOFFSETFROM:-0500
TZOFFSETTO:-0400
TZNAME:EDT
DTSTART:20210314T070000
END:DAYLIGHT
BEGIN:STANDARD
TZOFFSETFROM:-0400
TZOFFSETTO:-0500
TZNAME:EST
DTSTART:20211107T060000
END:STANDARD
BEGIN:DAYLIGHT
TZOFFSETFROM:-0500
TZOFFSETTO:-0400
TZNAME:EDT
DTSTART:20220313T070000
END:DAYLIGHT
BEGIN:STANDARD
TZOFFSETFROM:-0400
TZOFFSETTO:-0500
TZNAME:EST
DTSTART:20221106T060000
END:STANDARD
BEGIN:DAYLIGHT
TZOFFSETFROM:-0500
TZOFFSETTO:-0400
TZNAME:EDT
DTSTART:20230312T070000
END:DAYLIGHT
BEGIN:STANDARD
TZOFFSETFROM:-0400
TZOFFSETTO:-0500
TZNAME:EST
DTSTART:20231105T060000
END:STANDARD
END:VTIMEZONE
BEGIN:VEVENT
DTSTART;TZID=America/New_York:20221112T190000
DTEND;TZID=America/New_York:20221112T220000
DTSTAMP:20260419T205459
CREATED:20221103T171124Z
LAST-MODIFIED:20221103T171124Z
UID:211732-1668279600-1668290400@visit-marlborough.com
SUMMARY:Live Music @ Tackle Box
DESCRIPTION:Live Music with the Tony Soul Project!
URL:https://visit-marlborough.com/event/live-music-tackle-box-69/
LOCATION:Tackle Box Brewing Company\, 416 Boston Post Road East\, Marlborough\, MA\, 01752\, United States
END:VEVENT
BEGIN:VEVENT
DTSTART;TZID=America/New_York:20221112T110000
DTEND;TZID=America/New_York:20221112T150000
DTSTAMP:20260419T205459
CREATED:20221103T155641Z
LAST-MODIFIED:20221103T155641Z
UID:211705-1668250800-1668265200@visit-marlborough.com
SUMMARY:World War I Veterans Display
DESCRIPTION:On November 12th from 11:00 A.M. to 3:00 P.M. the Marlborough Historical Society’s Peter Rice Homestead\, located at 377 Elm Street will be hosting a display of World War I pictures\, artifacts\, uniforms\, etc. \nThis presentation not only honors the city’s WWI veterans but also educates the community on Marlborough’s participation in this war. The community is encouraged to come and bring their youngsters so that they might learn and understand the sacrifice men and women made to keep our country free. \nThe display is free and there will be refreshments.
URL:https://visit-marlborough.com/event/world-war-i-veterans-display/
LOCATION:Marlborough Historical Society\, 377 Elm Street\, Marlborough\, MA\, 01752\, United States
END:VEVENT
BEGIN:VEVENT
DTSTART;TZID=America/New_York:20221112T110000
DTEND;TZID=America/New_York:20221112T120000
DTSTAMP:20260419T205459
CREATED:20221103T172330Z
LAST-MODIFIED:20221103T172330Z
UID:211758-1668250800-1668254400@visit-marlborough.com
SUMMARY:Yoga in the Brewery @ Tackle Box
DESCRIPTION:Join us for a 60-minute all-levels yoga class in the brewery\, followed by a refreshing craft beer on tap! (1 drink included w/ ticket!)\nYOGA + BEER: The best of both worlds!\nEnjoy your late Saturday morning with a 60-minute all-levels yoga class\, led by 200-Hr CYT Al Dewsnap to fun and uplifting music in the empty brewery! Class takes place from 11-12 and will be followed with a refreshing beer courtesy of Tackle Box Brewing Co. when the taproom opens at noon.\nTicket includes one drink ticket to be used for a pour in the taproom. Come with friends and hang around for a bit to enjoy your Saturday afternoon!\nPLEASE BRING YOUR OWN MAT!
URL:https://visit-marlborough.com/event/yoga-in-the-brewery-tackle-box-17/
LOCATION:Tackle Box Brewing Company\, 416 Boston Post Road East\, Marlborough\, MA\, 01752\, United States
END:VEVENT
BEGIN:VEVENT
DTSTART;TZID=America/New_York:20221111T190000
DTEND;TZID=America/New_York:20221111T220000
DTSTAMP:20260419T205459
CREATED:20221103T171039Z
LAST-MODIFIED:20221103T171039Z
UID:211730-1668193200-1668204000@visit-marlborough.com
SUMMARY:Live Music @ Tackle Box
DESCRIPTION:Live Music with Bob Kat!
URL:https://visit-marlborough.com/event/live-music-tackle-box-68/
LOCATION:Tackle Box Brewing Company\, 416 Boston Post Road East\, Marlborough\, MA\, 01752\, United States
END:VEVENT
BEGIN:VEVENT
DTSTART;TZID=America/New_York:20221110T190000
DTEND;TZID=America/New_York:20221110T220000
DTSTAMP:20260419T205459
CREATED:20221103T171945Z
LAST-MODIFIED:20221103T171945Z
UID:211752-1668106800-1668117600@visit-marlborough.com
SUMMARY:Open Mic @ Tackle Box
DESCRIPTION:Open Mic Night!! Starting at 7 pm!
URL:https://visit-marlborough.com/event/open-mic-tackle-box-21/
LOCATION:Tackle Box Brewing Company\, 416 Boston Post Road East\, Marlborough\, MA\, 01752\, United States
END:VEVENT
BEGIN:VEVENT
DTSTART;TZID=America/New_York:20221109T193000
DTEND;TZID=America/New_York:20221109T213000
DTSTAMP:20260419T205459
CREATED:20221103T171650Z
LAST-MODIFIED:20221103T171650Z
UID:211744-1668022200-1668029400@visit-marlborough.com
SUMMARY:Trivia @ Tackle Box Brewing
DESCRIPTION:Trivia Night!!
URL:https://visit-marlborough.com/event/trivia-tackle-box-brewing-29/
LOCATION:Tackle Box Brewing Company\, 416 Boston Post Road East\, Marlborough\, MA\, 01752\, United States
END:VEVENT
BEGIN:VEVENT
DTSTART;TZID=America/New_York:20221108T190000
DTEND;TZID=America/New_York:20221108T210000
DTSTAMP:20260419T205459
CREATED:20221103T162718Z
LAST-MODIFIED:20221103T162718Z
UID:211711-1667934000-1667941200@visit-marlborough.com
SUMMARY:Music Bingo @ Tackle Box
DESCRIPTION:Every Tuesday at 7pm! Play for free! 4 Rounds! Prizes for Winners!
URL:https://visit-marlborough.com/event/music-bingo-tackle-box-5/
LOCATION:Tackle Box Brewing Company\, 416 Boston Post Road East\, Marlborough\, MA\, 01752\, United States
END:VEVENT
BEGIN:VEVENT
DTSTART;TZID=America/New_York:20221108T160000
DTEND;TZID=America/New_York:20221108T180000
DTSTAMP:20260419T205459
CREATED:20221103T154140Z
LAST-MODIFIED:20221103T154140Z
UID:211688-1667923200-1667930400@visit-marlborough.com
SUMMARY:2023 Marlborough Historical Calendar Sale
DESCRIPTION:It’s back! Marlborough Historical Society 2023 Calendars are on Sale now! The calendar is themed “Disasters\, Scandals and Scoundrels” and is also filled with little known interesting facts about the community. \nThe cost of the calendar is $10.00. These fees help provide for the upkeep of the Peter Rice Homestead\, the home of the society. \nCalendars can be purchased at the Main Street Bank\, The Senior Center\, Chestnut Convenience Store\, or the Main Street Café. There will also be someone at the Peter Rice Homestead\, 377 Elm Street\, every Tuesday from 4-6:00 P.M. selling the calendars. You can also call the society at 508-485-4763 or Trish Holt at 508-326-5369 to make arrangements to purchase one
URL:https://visit-marlborough.com/event/2023-marlborough-historical-calendar-sale/
LOCATION:Marlborough Historical Society\, 377 Elm Street\, Marlborough\, MA\, 01752\, United States
END:VEVENT
BEGIN:VEVENT
DTSTART;TZID=America/New_York:20221106T120000
DTEND;TZID=America/New_York:20221106T150000
DTSTAMP:20260419T205459
CREATED:20221103T170934Z
LAST-MODIFIED:20221103T170934Z
UID:211728-1667736000-1667746800@visit-marlborough.com
SUMMARY:Live Music @ Tackle Box
DESCRIPTION:Live Music with Bridget Eileen!
URL:https://visit-marlborough.com/event/live-music-tackle-box-67/
LOCATION:Tackle Box Brewing Company\, 416 Boston Post Road East\, Marlborough\, MA\, 01752\, United States
END:VEVENT
BEGIN:VEVENT
DTSTART;TZID=America/New_York:20221106T113000
DTEND;TZID=America/New_York:20221106T140000
DTSTAMP:20260419T205459
CREATED:20221103T171544Z
LAST-MODIFIED:20221103T171544Z
UID:211742-1667734200-1667743200@visit-marlborough.com
SUMMARY:Kegs & Eggs\, Sunday Brunch @ Tackle Box
DESCRIPTION:Enjoy Kegs & Eggs Sunday Brunch with Tackle Box Brewery!
URL:https://visit-marlborough.com/event/kegs-eggs-sunday-brunch-tackle-box-4/
LOCATION:Tackle Box Brewing Company\, 416 Boston Post Road East\, Marlborough\, MA\, 01752\, United States
END:VEVENT
BEGIN:VEVENT
DTSTART;TZID=America/New_York:20221105T190000
DTEND;TZID=America/New_York:20221105T220000
DTSTAMP:20260419T205459
CREATED:20221103T170820Z
LAST-MODIFIED:20221103T170820Z
UID:211726-1667674800-1667685600@visit-marlborough.com
SUMMARY:Live Music @ Tackle Box
DESCRIPTION:Live Music with Criminals and Beauty Queens!
URL:https://visit-marlborough.com/event/live-music-tackle-box-66/
LOCATION:Tackle Box Brewing Company\, 416 Boston Post Road East\, Marlborough\, MA\, 01752\, United States
END:VEVENT
BEGIN:VEVENT
DTSTART;TZID=America/New_York:20221104T190000
DTEND;TZID=America/New_York:20221104T220000
DTSTAMP:20260419T205459
CREATED:20221103T170635Z
LAST-MODIFIED:20221103T170727Z
UID:211724-1667588400-1667599200@visit-marlborough.com
SUMMARY:Live Music @ Tackle Box
DESCRIPTION:Live Music with Jessie & Courtney!
URL:https://visit-marlborough.com/event/live-music-tackle-box-65/
LOCATION:Tackle Box Brewing Company\, 416 Boston Post Road East\, Marlborough\, MA\, 01752\, United States
END:VEVENT
BEGIN:VEVENT
DTSTART;TZID=America/New_York:20221103T200000
DTEND;TZID=America/New_York:20221103T220000
DTSTAMP:20260419T205459
CREATED:20221103T170412Z
LAST-MODIFIED:20221103T170412Z
UID:211722-1667505600-1667512800@visit-marlborough.com
SUMMARY:Karaoke Night @ Tackle Box
DESCRIPTION:Karaoke Night!
URL:https://visit-marlborough.com/event/karaoke-night-tackle-box-14/
LOCATION:Tackle Box Brewing Company\, 416 Boston Post Road East\, Marlborough\, MA\, 01752\, United States
END:VEVENT
BEGIN:VEVENT
DTSTART;TZID=America/New_York:20221103T180000
DTEND;TZID=America/New_York:20221103T200000
DTSTAMP:20260419T205459
CREATED:20221103T164438Z
LAST-MODIFIED:20221103T164438Z
UID:211720-1667498400-1667505600@visit-marlborough.com
SUMMARY:Book Club @ Tackle Box
DESCRIPTION:Book Club night!
URL:https://visit-marlborough.com/event/book-club-tackle-box-8/
LOCATION:Tackle Box Brewing Company\, 416 Boston Post Road East\, Marlborough\, MA\, 01752\, United States
END:VEVENT
BEGIN:VEVENT
DTSTART;TZID=America/New_York:20221031T183000
DTEND;TZID=America/New_York:20221031T183000
DTSTAMP:20260419T205459
CREATED:20220928T154233Z
LAST-MODIFIED:20220928T154233Z
UID:209201-1667241000-1667241000@visit-marlborough.com
SUMMARY:Monday Night Run Cub @ Lost Shoe
DESCRIPTION:Monday Night Run Club every Monday starting at 6:30 pm!
URL:https://visit-marlborough.com/event/monday-night-run-cub-lost-shoe-16/
LOCATION:Lost Shoe Brewing & Roasting Co.\, 19 Weed Street\, Marlborough\, MA\, 01752\, United States
END:VEVENT
BEGIN:VEVENT
DTSTART;TZID=America/New_York:20221029T210000
DTEND;TZID=America/New_York:20221030T000000
DTSTAMP:20260419T205459
CREATED:20220921T191304Z
LAST-MODIFIED:20221026T150352Z
UID:209119-1667077200-1667088000@visit-marlborough.com
SUMMARY:Live Music @ Dante’s at Fireflys BBQ!
DESCRIPTION:Bone City – Bone City is a high energy rock band aimed at tickling your party bone\, playing Rock songs you know from the 70s\, 80s and 90s to today.
URL:https://visit-marlborough.com/event/live-music-dantes-at-fireflys-bbq-22/
LOCATION:Firefly’s BBQ\, 350 East Main Street\, Marlborough\, MA\, 01752\, United States
END:VEVENT
BEGIN:VEVENT
DTSTART;TZID=America/New_York:20221029T210000
DTEND;TZID=America/New_York:20221029T210000
DTSTAMP:20260419T205459
CREATED:20221003T175317Z
LAST-MODIFIED:20221003T175317Z
UID:209240-1667077200-1667077200@visit-marlborough.com
SUMMARY:Toe of Satan Challenge @ Tackle Box
DESCRIPTION:
URL:https://visit-marlborough.com/event/toe-of-satan-challenge-tackle-box/
LOCATION:Tackle Box Brewing Company\, 416 Boston Post Road East\, Marlborough\, MA\, 01752\, United States
END:VEVENT
BEGIN:VEVENT
DTSTART;TZID=America/New_York:20221029T110000
DTEND;TZID=America/New_York:20221029T120000
DTSTAMP:20260419T205459
CREATED:20220923T144923Z
LAST-MODIFIED:20220923T144923Z
UID:209147-1667041200-1667044800@visit-marlborough.com
SUMMARY:Yoga in the Brewery @ Tackle Box
DESCRIPTION:Join us for a 60-minute all-levels yoga class in the brewery\, followed by a refreshing craft beer on tap! (1 drink included w/ ticket!)\nYOGA + BEER: The best of both worlds!\nEnjoy your late Saturday morning with a 60-minute all-levels yoga class\, led by 200-Hr CYT Al Dewsnap to fun and uplifting music in the empty brewery! Class takes place from 11-12 and will be followed with a refreshing beer courtesy of Tackle Box Brewing Co. when the taproom opens at noon.\nTicket includes one drink ticket to be used for a pour in the taproom. Come with friends and hang around for a bit to enjoy your Saturday afternoon!\nPLEASE BRING YOUR OWN MAT!
URL:https://visit-marlborough.com/event/yoga-in-the-brewery-tackle-box-20/
LOCATION:Tackle Box Brewing Company\, 416 Boston Post Road East\, Marlborough\, MA\, 01752\, United States
END:VEVENT
BEGIN:VEVENT
DTSTART;TZID=America/New_York:20221028T210000
DTEND;TZID=America/New_York:20221028T230000
DTSTAMP:20260419T205459
CREATED:20220921T191110Z
LAST-MODIFIED:20221026T144252Z
UID:209117-1666990800-1666998000@visit-marlborough.com
SUMMARY:Live Music @ Dante’s at Fireflys BBQ!
DESCRIPTION:Dazed – Dazed performs a vast variety of musical styles as they pay tribute to the greatest rock band of all time – Led Zeppelin. Whatever your favorite Led Zeppelin album\, the Boston-based Dazed Led Zeppelin tribute has something for you!
URL:https://visit-marlborough.com/event/live-music-dantes-at-fireflys-bbq-21/
LOCATION:Firefly’s BBQ\, 350 East Main Street\, Marlborough\, MA\, 01752\, United States
END:VEVENT
BEGIN:VEVENT
DTSTART;TZID=America/New_York:20221028T190000
DTEND;TZID=America/New_York:20221028T220000
DTSTAMP:20260419T205459
CREATED:20220923T145834Z
LAST-MODIFIED:20220923T145834Z
UID:211096-1666983600-1666994400@visit-marlborough.com
SUMMARY:Live Music @ Tackle Box
DESCRIPTION:Frye St. Radio is performing at Tackle Box Brewing!
URL:https://visit-marlborough.com/event/live-music-tackle-box-78/
LOCATION:Tackle Box Brewing Company\, 416 Boston Post Road East\, Marlborough\, MA\, 01752\, United States
END:VEVENT
BEGIN:VEVENT
DTSTART;TZID=America/New_York:20221027T190000
DTEND;TZID=America/New_York:20221027T220000
DTSTAMP:20260419T205459
CREATED:20220923T151334Z
LAST-MODIFIED:20220923T151334Z
UID:209181-1666897200-1666908000@visit-marlborough.com
SUMMARY:Open Mic @ Tackle Box
DESCRIPTION:Open Mic Night!! Starting at 7 pm!
URL:https://visit-marlborough.com/event/open-mic-tackle-box-27/
LOCATION:Tackle Box Brewing Company\, 416 Boston Post Road East\, Marlborough\, MA\, 01752\, United States
END:VEVENT
BEGIN:VEVENT
DTSTART;TZID=America/New_York:20221027T180000
DTEND;TZID=America/New_York:20221027T210000
DTSTAMP:20260419T205459
CREATED:20220503T142513Z
LAST-MODIFIED:20221026T150423Z
UID:210882-1666893600-1666904400@visit-marlborough.com
SUMMARY:Live Music @ Kennedys Pub
DESCRIPTION:Come and enjoy the food\, drinks and music on the Patio with Side Effects! \n 
URL:https://visit-marlborough.com/event/live-music-kennedys-pub-27-2/
LOCATION:Kennedy’s Pub\, 247 Maple Street\, Marlborough\, MA\, 01752\, United States
END:VEVENT
BEGIN:VEVENT
DTSTART;TZID=America/New_York:20221027T163000
DTEND;TZID=America/New_York:20221027T180000
DTSTAMP:20260419T205459
CREATED:20220928T181114Z
LAST-MODIFIED:20220928T181114Z
UID:211103-1666888200-1666893600@visit-marlborough.com
SUMMARY:Horribles Parade
DESCRIPTION:Are your kids counting down the days until Halloween? Bring your spooky crew to Downtown Marlborough for a real treat. Marlborough’s annual Horribles Parade and Trick or Treat hit the downtown on October 27th.
URL:https://visit-marlborough.com/event/horribles-parade-3/
LOCATION:Main Street\, Main Street\, Marlborough\, MA\, 01752\, United States
END:VEVENT
BEGIN:VEVENT
DTSTART;TZID=America/New_York:20221027T163000
DTEND;TZID=America/New_York:20221027T180000
DTSTAMP:20260419T205459
CREATED:20220923T144318Z
LAST-MODIFIED:20220923T144318Z
UID:211089-1666888200-1666893600@visit-marlborough.com
SUMMARY:Horribles Parade
DESCRIPTION:Mayor Vigeant and the Main Street Neighbors invite you to downtown trick or treating! \nTrick or Treat 4:30pm – 5:30pm\, Parade 5:30pm \nThe parade is led by the High School & Middle School Marching Band – and starts at 91 Main Street. \ \nFor questions\, contact the Mayor’s Office – 508-460-3770
URL:https://visit-marlborough.com/event/horribles-parade-2-2/
LOCATION:Downtown Marlborough MA\, 91 Main Street\, Marlborough\, MA\, 01752\, United States
ATTACH;FMTTYPE=:
ORGANIZER;CN="City of Marlborough":MAILTO:dpw-dispatch@marlborough-ma.gov
END:VEVENT
BEGIN:VEVENT
DTSTART;TZID=America/New_York:20221027T060000
DTEND;TZID=America/New_York:20221027T210000
DTSTAMP:20260419T205459
CREATED:20220503T142513Z
LAST-MODIFIED:20220802T122250Z
UID:208471-1666850400-1666904400@visit-marlborough.com
SUMMARY:Live Music @ Kennedy’s Pub
DESCRIPTION:Come and enjoy the food\, drinks and music on the Patio with Side Effects! \n 
URL:https://visit-marlborough.com/event/live-music-kennedys-pub-27/
LOCATION:Kennedy’s Pub\, 247 Maple Street\, Marlborough\, MA\, 01752\, United States
END:VEVENT
BEGIN:VEVENT
DTSTART;TZID=America/New_York:20221026T193000
DTEND;TZID=America/New_York:20221026T213000
DTSTAMP:20260419T205459
CREATED:20220923T151040Z
LAST-MODIFIED:20220923T151040Z
UID:209175-1666812600-1666819800@visit-marlborough.com
SUMMARY:Trivia @ Tackle Box Brewing
DESCRIPTION:Trivia Night!!
URL:https://visit-marlborough.com/event/trivia-tackle-box-brewing-36/
LOCATION:Tackle Box Brewing Company\, 416 Boston Post Road East\, Marlborough\, MA\, 01752\, United States
END:VEVENT
BEGIN:VEVENT
DTSTART;TZID=America/New_York:20221025T190000
DTEND;TZID=America/New_York:20221025T210000
DTSTAMP:20260419T205459
CREATED:20221003T164155Z
LAST-MODIFIED:20221003T164155Z
UID:209236-1666724400-1666731600@visit-marlborough.com
SUMMARY:Music Bingo @ Tackle Box
DESCRIPTION:Every Tuesday at 7pm! Play for free! 4 Rounds! Prizes for Winners!
URL:https://visit-marlborough.com/event/music-bingo-tackle-box-4/
LOCATION:Tackle Box Brewing Company\, 416 Boston Post Road East\, Marlborough\, MA\, 01752\, United States
END:VEVENT
BEGIN:VEVENT
DTSTART;TZID=America/New_York:20221025T190000
DTEND;TZID=America/New_York:20221025T210000
DTSTAMP:20260419T205459
CREATED:20220928T154703Z
LAST-MODIFIED:20220928T154703Z
UID:211102-1666724400-1666731600@visit-marlborough.com
SUMMARY:Geeks Who Drink Trivia @ Lost Shoe
DESCRIPTION:Trivia Night starting at 7 pm!
URL:https://visit-marlborough.com/event/geeks-who-drink-trivia-lost-shoe-15/
LOCATION:Lost Shoe Brewing & Roasting Co.\, 19 Weed Street\, Marlborough\, MA\, 01752\, United States
END:VEVENT
BEGIN:VEVENT
DTSTART;TZID=America/New_York:20221024T183000
DTEND;TZID=America/New_York:20221024T183000
DTSTAMP:20260419T205459
CREATED:20220928T154211Z
LAST-MODIFIED:20220928T154211Z
UID:211101-1666636200-1666636200@visit-marlborough.com
SUMMARY:Monday Night Run Cub @ Lost Shoe
DESCRIPTION:Monday Night Run Club every Monday starting at 6:30 pm!
URL:https://visit-marlborough.com/event/monday-night-run-cub-lost-shoe-15/
LOCATION:Lost Shoe Brewing & Roasting Co.\, 19 Weed Street\, Marlborough\, MA\, 01752\, United States
END:VEVENT
BEGIN:VEVENT
DTSTART;TZID=America/New_York:20221023T140000
DTEND;TZID=America/New_York:20221023T160000
DTSTAMP:20260419T205459
CREATED:20221003T163537Z
LAST-MODIFIED:20221003T163537Z
UID:211105-1666533600-1666540800@visit-marlborough.com
SUMMARY:Knit & Sip @ Tackle Box
DESCRIPTION:Learn the basics and take home the yarn of your choice and a set of knitting needles.
URL:https://visit-marlborough.com/event/knit-sip-tackle-box/
LOCATION:Tackle Box Brewing Company\, 416 Boston Post Road East\, Marlborough\, MA\, 01752\, United States
END:VEVENT
END:VCALENDAR