BEGIN:VCALENDAR
VERSION:2.0
PRODID:-//Visit Marlborough - ECPv6.15.20//NONSGML v1.0//EN
CALSCALE:GREGORIAN
METHOD:PUBLISH
X-WR-CALNAME:Visit Marlborough
X-ORIGINAL-URL:https://visit-marlborough.com
X-WR-CALDESC:Events for Visit Marlborough
REFRESH-INTERVAL;VALUE=DURATION:PT1H
X-Robots-Tag:noindex
X-PUBLISHED-TTL:PT1H
BEGIN:VTIMEZONE
TZID:America/New_York
BEGIN:DAYLIGHT
TZOFFSETFROM:-0500
TZOFFSETTO:-0400
TZNAME:EDT
DTSTART:20250309T070000
END:DAYLIGHT
BEGIN:STANDARD
TZOFFSETFROM:-0400
TZOFFSETTO:-0500
TZNAME:EST
DTSTART:20251102T060000
END:STANDARD
BEGIN:DAYLIGHT
TZOFFSETFROM:-0500
TZOFFSETTO:-0400
TZNAME:EDT
DTSTART:20260308T070000
END:DAYLIGHT
BEGIN:STANDARD
TZOFFSETFROM:-0400
TZOFFSETTO:-0500
TZNAME:EST
DTSTART:20261101T060000
END:STANDARD
BEGIN:DAYLIGHT
TZOFFSETFROM:-0500
TZOFFSETTO:-0400
TZNAME:EDT
DTSTART:20270314T070000
END:DAYLIGHT
BEGIN:STANDARD
TZOFFSETFROM:-0400
TZOFFSETTO:-0500
TZNAME:EST
DTSTART:20271107T060000
END:STANDARD
END:VTIMEZONE
BEGIN:VEVENT
DTSTART;TZID=America/New_York:20260420T173000
DTEND;TZID=America/New_York:20260420T183000
DTSTAMP:20260420T131006
CREATED:20260415T200315Z
LAST-MODIFIED:20260415T200939Z
UID:217207-1776706200-1776709800@visit-marlborough.com
SUMMARY:Baseball Legend Garrett Crochet Signing @ Apex Entertainment
DESCRIPTION:Garrett Crochet is heading to Apex! Come have the opportunity for a photo op with this baseball legend! ⚾\n📆 April 20\n⏰ 5:30pm-6:30pm\nWe will have photos\, baseballs\, and more raw goods available for purchase at the event. Purchase your tickets with the link.
URL:https://visit-marlborough.com/event/baseball-legend-garrett-crochet-signing-apex-entertainment/
LOCATION:Apex Entertainment Center\, 21 Apex Drive\, Marlborough\, MA\, 01752\, United States
ATTACH;FMTTYPE=application/pdf:https://visit-marlborough.com/wp-content/uploads/2026/04/APEX_CROCHET_FLYER_MAB.pdf
ORGANIZER;CN="Apex Entertainment":MAILTO:infoma@apexentertainment.com
END:VEVENT
BEGIN:VEVENT
DTSTART;TZID=America/New_York:20260420T173000
DTEND;TZID=America/New_York:20260420T200000
DTSTAMP:20260420T131006
CREATED:20260401T191933Z
LAST-MODIFIED:20260401T191933Z
UID:217203-1776706200-1776715200@visit-marlborough.com
SUMMARY:Spring Forward Art Show
DESCRIPTION:Post Road Art Center is excited to announce the Spring Forward Show\, our first juried show since the pandemic! The show will be held from Monday\, April 20th to Monday\, May 18th at 1 Boston Post Road E.\, Marlborough\, with an opening reception Monday\, April 20th from 5:30-8:00pm. Stop by to meet the artists\, enjoy some refreshments\, and experience the local art scene.  \nFor artists who wish to participate\, submissions will be accepted from April 6th to April 11th at 1 Boston Road E.\, Marlborough. There is no required theme or subject matter\, but the work must be an original piece complete within the past year and must be for sale with the artist receiving 60% of the sale price. 2D pieces must have a wired; we are happy to wire your piece for you for $10. The entry fees are as follows: 1 piece – $25\, 2 pieces – $45\, 3 pieces – $65. \nPrizes: \n1st place – $100 \n2nd place – $65 \n3rd place – $45 \nPeople’s Choice – $75 \nFor more information\, please visit our website or stop by in-person at Post Road Art Center\, 1 Boston Post Road E.\, Marlborough.
URL:https://visit-marlborough.com/event/spring-forward-art-show/
LOCATION:Post Road Art Center\, 1 Boston Post Road East\, Marlborough\, MA\, 01752\, United States
END:VEVENT
BEGIN:VEVENT
DTSTART;TZID=America/New_York:20260421T190000
DTEND;TZID=America/New_York:20260421T210000
DTSTAMP:20260420T131006
CREATED:20260209T214718Z
LAST-MODIFIED:20260209T214718Z
UID:217082-1776798000-1776805200@visit-marlborough.com
SUMMARY:Geeks Who Drink Trivia @ Lost Shoe
DESCRIPTION:Trivia Night starting at 7 pm!
URL:https://visit-marlborough.com/event/geeks-who-drink-trivia-lost-shoe-117/
LOCATION:Lost Shoe Brewing & Roasting Co.\, 19 Weed Street\, Marlborough\, MA\, 01752\, United States
END:VEVENT
BEGIN:VEVENT
DTSTART;TZID=America/New_York:20260428T190000
DTEND;TZID=America/New_York:20260428T210000
DTSTAMP:20260420T131006
CREATED:20260209T214759Z
LAST-MODIFIED:20260209T214759Z
UID:217084-1777402800-1777410000@visit-marlborough.com
SUMMARY:Geeks Who Drink Trivia @ Lost Shoe
DESCRIPTION:Trivia Night starting at 7 pm!
URL:https://visit-marlborough.com/event/geeks-who-drink-trivia-lost-shoe-118/
LOCATION:Lost Shoe Brewing & Roasting Co.\, 19 Weed Street\, Marlborough\, MA\, 01752\, United States
END:VEVENT
END:VCALENDAR